BEGIN:VCALENDAR
VERSION:2.0
PRODID:-//The Piedmont Virginian - ECPv5.3.2.1//NONSGML v1.0//EN
CALSCALE:GREGORIAN
METHOD:PUBLISH
X-WR-CALNAME:The Piedmont Virginian
X-ORIGINAL-URL:https://piedmontvirginian.com
X-WR-CALDESC:Events for The Piedmont Virginian
BEGIN:VTIMEZONE
TZID:America/New_York
BEGIN:DAYLIGHT
TZOFFSETFROM:-0500
TZOFFSETTO:-0400
TZNAME:EDT
DTSTART:20160313T070000
END:DAYLIGHT
BEGIN:STANDARD
TZOFFSETFROM:-0400
TZOFFSETTO:-0500
TZNAME:EST
DTSTART:20161106T060000
END:STANDARD
END:VTIMEZONE
BEGIN:VEVENT
DTSTART;TZID=America/New_York:20160401T103000
DTEND;TZID=America/New_York:20160401T120000
DTSTAMP:20260420T040341
CREATED:20160318T190420Z
LAST-MODIFIED:20160318T190420Z
UID:9508-1459506600-1459512000@piedmontvirginian.com
SUMMARY:Fun Friday Storytime at the Culpeper County Library
DESCRIPTION:10:30 a.m.  Join us for stories\, songs\, rhymes\, activities and more!  Children attend with a parent or other caregiver. This program is geared towards children who can sit while stories are read. Great for grandparents to attend with the grandkids.  No registration required.  Contact Laini Bostian atlbostian@cclva.org or 540-825-8691
URL:https://piedmontvirginian.com/event/fun-friday-storytime-at-the-culpeper-county-library-2/
LOCATION:Culpeper County Library\, 271 Southgate Shopping Center\, Culpeper\, VA\, 22701\, United States
CATEGORIES:@ Culpeper Times
END:VEVENT
END:VCALENDAR