BEGIN:VCALENDAR
VERSION:2.0
PRODID:-//The Piedmont Virginian - ECPv5.3.2.1//NONSGML v1.0//EN
CALSCALE:GREGORIAN
METHOD:PUBLISH
X-WR-CALNAME:The Piedmont Virginian
X-ORIGINAL-URL:https://piedmontvirginian.com
X-WR-CALDESC:Events for The Piedmont Virginian
BEGIN:VTIMEZONE
TZID:America/New_York
BEGIN:DAYLIGHT
TZOFFSETFROM:-0500
TZOFFSETTO:-0400
TZNAME:EDT
DTSTART:20170312T070000
END:DAYLIGHT
BEGIN:STANDARD
TZOFFSETFROM:-0400
TZOFFSETTO:-0500
TZNAME:EST
DTSTART:20171105T060000
END:STANDARD
END:VTIMEZONE
BEGIN:VEVENT
DTSTART;VALUE=DATE:20170502
DTEND;VALUE=DATE:20170503
DTSTAMP:20260419T133559
CREATED:20170427T190917Z
LAST-MODIFIED:20170427T190917Z
UID:20667-1493683200-1493769599@piedmontvirginian.com
SUMMARY:Give Local Piedmont
DESCRIPTION:Sponsored by Northern Piedmont Community Foundation\, this is a one day online giving event to inspire folks to give generously to nonprofit organizations. Go to www.givelocalpiedmont.org\, click on your favorite and donate from $10 on up. In the past thousands have been raised to help local groups continue their good work in the community.
URL:https://piedmontvirginian.com/event/give-local-piedmont/
CATEGORIES:@ Culpeper Times
END:VEVENT
END:VCALENDAR