BEGIN:VCALENDAR
VERSION:2.0
PRODID:-//The Piedmont Virginian - ECPv5.3.2.1//NONSGML v1.0//EN
CALSCALE:GREGORIAN
METHOD:PUBLISH
X-WR-CALNAME:The Piedmont Virginian
X-ORIGINAL-URL:https://piedmontvirginian.com
X-WR-CALDESC:Events for The Piedmont Virginian
BEGIN:VTIMEZONE
TZID:America/New_York
BEGIN:DAYLIGHT
TZOFFSETFROM:-0500
TZOFFSETTO:-0400
TZNAME:EDT
DTSTART:20170312T070000
END:DAYLIGHT
BEGIN:STANDARD
TZOFFSETFROM:-0400
TZOFFSETTO:-0500
TZNAME:EST
DTSTART:20171105T060000
END:STANDARD
END:VTIMEZONE
BEGIN:VEVENT
DTSTART;TZID=America/New_York:20170608T193000
DTEND;TZID=America/New_York:20170608T210000
DTSTAMP:20260422T023506
CREATED:20170523T184829Z
LAST-MODIFIED:20170523T184829Z
UID:20603-1496950200-1496955600@piedmontvirginian.com
SUMMARY:Griffin House
DESCRIPTION:Griffin House didn’t begin playing guitar and writing songs until he was 18. The athletically gifted House shocked his family by turning down a sports scholarship to focus on music and\, after graduating\, moved to Nashville\, started doing solo gigs and\, within months\, was headlining and touring with the likes of John Mellencamp and the Cranberries. Attracting the attention of major labels\, he signed with Vancouver label Nettwerk and released Lost and Found.\nHis intelligent\, heart-felt lyrics and melodies have made such songs as “The Guy Who Says Goodbye to You Is Out of His Mind” and “Better Than Love” radio mainstays. House released his 8th album BALLS in 2013\, garnering even more commercial and critical acclaim.\nLast year House released SO ON AND SO FORTH – a collection of original tunes that are considered some of his best yet and sure to please both old and new fans.
URL:https://piedmontvirginian.com/event/griffin-house/
LOCATION:Jammin Java\, 227 Maple Ave\, Vienna\, 22180
CATEGORIES:@ Piedmont Virginian,Music and Concerts
ATTACH;FMTTYPE=image/jpeg:https://piedmontvirginian.com/wp-content/uploads/2017/04/GH_closeWEB.jpg
END:VEVENT
END:VCALENDAR