BEGIN:VCALENDAR
VERSION:2.0
PRODID:-//The Piedmont Virginian - ECPv5.3.2.1//NONSGML v1.0//EN
CALSCALE:GREGORIAN
METHOD:PUBLISH
X-WR-CALNAME:The Piedmont Virginian
X-ORIGINAL-URL:https://piedmontvirginian.com
X-WR-CALDESC:Events for The Piedmont Virginian
BEGIN:VTIMEZONE
TZID:America/New_York
BEGIN:DAYLIGHT
TZOFFSETFROM:-0500
TZOFFSETTO:-0400
TZNAME:EDT
DTSTART:20180311T070000
END:DAYLIGHT
BEGIN:STANDARD
TZOFFSETFROM:-0400
TZOFFSETTO:-0500
TZNAME:EST
DTSTART:20181104T060000
END:STANDARD
END:VTIMEZONE
BEGIN:VEVENT
DTSTART;TZID=America/New_York:20181014T150000
DTEND;TZID=America/New_York:20181014T163000
DTSTAMP:20260421T091458
CREATED:20180927T231236Z
LAST-MODIFIED:20180927T231236Z
UID:26175-1539529200-1539534600@piedmontvirginian.com
SUMMARY:"Halloween Songs & Stories": the Perfect Early Halloween Family Event!
DESCRIPTION:Calling all kids: you’re invited to\n“Halloween Songs & Stories” on October 14! \nMiddleburg’s Emmanuel Episcopal Church presents the latest in their At The Parish House performance series. “Halloween Songs & Stories” is the perfect warm-up for Halloween. Local residents and students will give you goose bumps with a medley of songs and stories. Come join the sing-alongs\, the costume parade\, The Monster Mash dance\, and much more. Scary refreshments will be served. Treats for all who wear costumes! The fun happens on Sunday October 14\, 3:00 p.m.\, at Emmanuel’s Parish House\, 105 East Washington St. in Middleburg. Reservations recommended but not necessary (540-687-6297). Donations to the series accepted.
URL:https://piedmontvirginian.com/event/halloween-songs-stories-the-perfect-early-halloween-family-event/
LOCATION:Parish House of Emmanuel Church\, 105 East Washington Street\, Middleburg\, VA\, 20117\, United States
CATEGORIES:@ Piedmont Virginian
ATTACH;FMTTYPE=image/jpeg:https://piedmontvirginian.com/wp-content/uploads/2018/09/pumpkins-3-1.jpg
END:VEVENT
END:VCALENDAR