BEGIN:VCALENDAR
VERSION:2.0
PRODID:-//The Piedmont Virginian - ECPv5.3.2.1//NONSGML v1.0//EN
CALSCALE:GREGORIAN
METHOD:PUBLISH
X-WR-CALNAME:The Piedmont Virginian
X-ORIGINAL-URL:https://piedmontvirginian.com
X-WR-CALDESC:Events for The Piedmont Virginian
BEGIN:VTIMEZONE
TZID:America/New_York
BEGIN:DAYLIGHT
TZOFFSETFROM:-0500
TZOFFSETTO:-0400
TZNAME:EDT
DTSTART:20160313T070000
END:DAYLIGHT
BEGIN:STANDARD
TZOFFSETFROM:-0400
TZOFFSETTO:-0500
TZNAME:EST
DTSTART:20161106T060000
END:STANDARD
END:VTIMEZONE
BEGIN:VEVENT
DTSTART;TZID=America/New_York:20160710T160000
DTEND;TZID=America/New_York:20160710T180000
DTSTAMP:20260421T044641
CREATED:20160414T145819Z
LAST-MODIFIED:20160414T145819Z
UID:10277-1468166400-1468173600@piedmontvirginian.com
SUMMARY:Hiroya Tsukamoto
DESCRIPTION:Don’t miss internationally acclaimed guitarist and composer Hiroya Tsukamoto as he performs a hypnotic blend of folk\, jazz\, and world music that has been described as “eclectic\, immersive\, and mesmerizing.” \n“Hiroya Tsukamoto takes us to an impressionistic journey”\n– Boston Herald \nHiroya creates evocative images through his music\, taking listeners with him on scenic journeys of melody and rhythm. \nDate & Time:\nSunday\, July 10 at 4:00 PM | Doors open at 3:00 \nTicket Prices & Info:\nAll Tickets are General Admission\n$15 in advance until 1:00 PM on the day of event\n$20 at the door\nChildren: 12 years and below are free when accompanied by an adult
URL:https://piedmontvirginian.com/event/hiroya-tsukamoto/
LOCATION:The Barns at Rose Hill\, 95 Chalmers Court\, Berryville\, VA\, 22611\, United States
CATEGORIES:@ Piedmont Virginian,Music and Concerts
ATTACH;FMTTYPE=image/jpeg:https://piedmontvirginian.com/wp-content/uploads/2016/04/hirobw.jpg
END:VEVENT
END:VCALENDAR