BEGIN:VCALENDAR
VERSION:2.0
PRODID:-//The Piedmont Virginian - ECPv5.3.2.1//NONSGML v1.0//EN
CALSCALE:GREGORIAN
METHOD:PUBLISH
X-WR-CALNAME:The Piedmont Virginian
X-ORIGINAL-URL:https://piedmontvirginian.com
X-WR-CALDESC:Events for The Piedmont Virginian
BEGIN:VTIMEZONE
TZID:America/New_York
BEGIN:DAYLIGHT
TZOFFSETFROM:-0500
TZOFFSETTO:-0400
TZNAME:EDT
DTSTART:20170312T070000
END:DAYLIGHT
BEGIN:STANDARD
TZOFFSETFROM:-0400
TZOFFSETTO:-0500
TZNAME:EST
DTSTART:20171105T060000
END:STANDARD
END:VTIMEZONE
BEGIN:VEVENT
DTSTART;TZID=America/New_York:20171015T130000
DTEND;TZID=America/New_York:20171015T150000
DTSTAMP:20260421T153446
CREATED:20170921T170217Z
LAST-MODIFIED:20170921T170217Z
UID:23444-1508072400-1508079600@piedmontvirginian.com
SUMMARY:History In Your Hands
DESCRIPTION:History In Your Hands is a program for visitors of all ages who are blind or have low vision. HIYH is an opportunity to interact with the collections through tactile exploration of selected objects\, and through verbal description\, tactile graphics\, and other materials for artifacts that cannot be touched. Trained Museum volunteers and Visitor Services staff lead these events. \nThere is no fee for this program\, but pre-registration is required. \nRegistration for the monthly program closes 1 week prior to the event. To register for the monthly program\, contact Jack Oblein at 703-432-2622 or email jack.oblein@usmcu.edu. \nThis event occurs on the 3rd Sunday of every month at the Museum.
URL:https://piedmontvirginian.com/event/history-in-your-hands/
LOCATION:National Museum of the Marine Corps\, 18900 Jefferson Davis Hwy\, Triangle\, VA\, 22172\, United States
CATEGORIES:@ Piedmont Virginian,History and Heritage
END:VEVENT
END:VCALENDAR