BEGIN:VCALENDAR
VERSION:2.0
PRODID:-//The Piedmont Virginian - ECPv5.3.2.1//NONSGML v1.0//EN
CALSCALE:GREGORIAN
METHOD:PUBLISH
X-WR-CALNAME:The Piedmont Virginian
X-ORIGINAL-URL:https://piedmontvirginian.com
X-WR-CALDESC:Events for The Piedmont Virginian
BEGIN:VTIMEZONE
TZID:America/New_York
BEGIN:DAYLIGHT
TZOFFSETFROM:-0500
TZOFFSETTO:-0400
TZNAME:EDT
DTSTART:20160313T070000
END:DAYLIGHT
BEGIN:STANDARD
TZOFFSETFROM:-0400
TZOFFSETTO:-0500
TZNAME:EST
DTSTART:20161106T060000
END:STANDARD
END:VTIMEZONE
BEGIN:VEVENT
DTSTART;TZID=America/New_York:20161204T150000
DTEND;TZID=America/New_York:20161204T170000
DTSTAMP:20260421T044821
CREATED:20161201T204041Z
LAST-MODIFIED:20161201T204041Z
UID:17832-1480863600-1480870800@piedmontvirginian.com
SUMMARY:Holiday Choral Concert
DESCRIPTION:“The Spotsylvanians” a 70 voice chorus from the Fredericksburg area will be performing “Songs of the Season” at 3 p.m. in the sanctuary of Culpeper Baptist Church\, 318 S. West Street.  They are under the direction of Culpeper native Alex Smith. The Sanctuary and Handbell Choirs from Culpeper Baptist will also perform. The concert is free and open to the public. For more information about these and other Christmas events go to www.culpeperbaptist.org\, e-mail office@culpeperbaptist.org or call the church office 540-825-8192.
URL:https://piedmontvirginian.com/event/holiday-choral-concert/
LOCATION:Culpeper Baptist Church\, 318 S. West Street\, Culpeper\, VA\, 22701\, United States
CATEGORIES:@ Culpeper Times,Concert,Farm and Garden,Music and Concerts,Seasonal holidays
END:VEVENT
END:VCALENDAR