BEGIN:VCALENDAR
VERSION:2.0
PRODID:-//The Piedmont Virginian - ECPv5.3.2.1//NONSGML v1.0//EN
CALSCALE:GREGORIAN
METHOD:PUBLISH
X-WR-CALNAME:The Piedmont Virginian
X-ORIGINAL-URL:https://piedmontvirginian.com
X-WR-CALDESC:Events for The Piedmont Virginian
BEGIN:VTIMEZONE
TZID:America/New_York
BEGIN:DAYLIGHT
TZOFFSETFROM:-0500
TZOFFSETTO:-0400
TZNAME:EDT
DTSTART:20170312T070000
END:DAYLIGHT
BEGIN:STANDARD
TZOFFSETFROM:-0400
TZOFFSETTO:-0500
TZNAME:EST
DTSTART:20171105T060000
END:STANDARD
END:VTIMEZONE
BEGIN:VEVENT
DTSTART;TZID=America/New_York:20171104T183000
DTEND;TZID=America/New_York:20171104T210000
DTSTAMP:20260419T180048
CREATED:20170921T171505Z
LAST-MODIFIED:20170921T171505Z
UID:23414-1509820200-1509829200@piedmontvirginian.com
SUMMARY:HOWL 8 and Potluck Dinner at DuCard Vineyards
DESCRIPTION:It’s time for our 8th Annual HOWL at the Moon (rising) Party! Come enjoy moon tunes and great wine as we await the rising of the harvest moon after sunset. Bring a pot luck dish to share with your neighbors. We’ll stay open late so everyone can eat\, drink\, and\, yeah\, howl at the full moon to celebrate life in the vineyard! No cover.
URL:https://piedmontvirginian.com/event/howl-8-and-potluck-dinner-at-ducard-vineyards/
LOCATION:Ducard Vineyards\, 40 Gibson Hollow Ln\, Etlan \, VA\, 22719\, United States
CATEGORIES:@ Piedmont Virginian,Wine/Beer/Libations
ATTACH;FMTTYPE=image/jpeg:https://piedmontvirginian.com/wp-content/uploads/2017/09/wolf-moon.jpg
END:VEVENT
END:VCALENDAR