BEGIN:VCALENDAR
VERSION:2.0
PRODID:-//The Piedmont Virginian - ECPv5.3.2.1//NONSGML v1.0//EN
CALSCALE:GREGORIAN
METHOD:PUBLISH
X-WR-CALNAME:The Piedmont Virginian
X-ORIGINAL-URL:https://piedmontvirginian.com
X-WR-CALDESC:Events for The Piedmont Virginian
BEGIN:VTIMEZONE
TZID:America/New_York
BEGIN:DAYLIGHT
TZOFFSETFROM:-0500
TZOFFSETTO:-0400
TZNAME:EDT
DTSTART:20160313T070000
END:DAYLIGHT
BEGIN:STANDARD
TZOFFSETFROM:-0400
TZOFFSETTO:-0500
TZNAME:EST
DTSTART:20161106T060000
END:STANDARD
END:VTIMEZONE
BEGIN:VEVENT
DTSTART;TZID=America/New_York:20160612T100000
DTEND;TZID=America/New_York:20160612T230000
DTSTAMP:20260424T050109
CREATED:20160608T175904Z
LAST-MODIFIED:20160608T175904Z
UID:12824-1465725600-1465772400@piedmontvirginian.com
SUMMARY:Inversions at Pranapiloga
DESCRIPTION:  \nYoga inversions can be daunting but teacher Annette Hyde will show you where to start. This workshop addresses mental and emotional levels\, overcoming fears\, trusting in your own abilities\, and trying new things. These are lessons which can be applied to life. For more information visit pranapiloga.com or contact them at info@pranapiloga.com.
URL:https://piedmontvirginian.com/event/inversions-at-pranapiloga/
LOCATION:Pranapiloga\, 133 E. Davis Street\, Culpeper\, VA\, 22701\, United States
CATEGORIES:@ Culpeper Times
END:VEVENT
END:VCALENDAR