BEGIN:VCALENDAR
VERSION:2.0
PRODID:-//The Piedmont Virginian - ECPv5.3.2.1//NONSGML v1.0//EN
CALSCALE:GREGORIAN
METHOD:PUBLISH
X-WR-CALNAME:The Piedmont Virginian
X-ORIGINAL-URL:https://piedmontvirginian.com
X-WR-CALDESC:Events for The Piedmont Virginian
BEGIN:VTIMEZONE
TZID:America/New_York
BEGIN:DAYLIGHT
TZOFFSETFROM:-0500
TZOFFSETTO:-0400
TZNAME:EDT
DTSTART:20180311T070000
END:DAYLIGHT
BEGIN:STANDARD
TZOFFSETFROM:-0400
TZOFFSETTO:-0500
TZNAME:EST
DTSTART:20181104T060000
END:STANDARD
END:VTIMEZONE
BEGIN:VEVENT
DTSTART;TZID=America/New_York:20180901T110000
DTEND;TZID=America/New_York:20180901T170000
DTSTAMP:20260421T104318
CREATED:20180731T191508Z
LAST-MODIFIED:20180731T191508Z
UID:25902-1535799600-1535821200@piedmontvirginian.com
SUMMARY:Jacquelyn Jouvenal Art Exhibit
DESCRIPTION:The Byrne Gallery is proud to present Sanctuaries\, an exhibition of expressive landscape paintings by Jacquelyn Jouvenal. The exhibit will begin on Saturday\, September 1st and continues through Sunday\, September 30th. There will be a reception for the artist on Saturday\, September 8th\, from 5:00 p.m. to 8:00 p.m. It is open to the public and everyone is cordially invited to attend. The Byrne Gallery is located at 7 West Washington Street in Middleburg\, Virginia. Gallery hours are Monday and Tuesday by appointment only\, Wednesday through Saturday 11 a.m. to 5 p.m. and Sunday noon to 5 p.m. Contact the Byrne Gallery for more information at (540) 687-6986.
URL:https://piedmontvirginian.com/event/jacquelyn-jouvenal-art-exhibit/
LOCATION:The Byrne Gallery\, 7 W. Washington St.\, Middleburg\, 20117
CATEGORIES:@ Piedmont Virginian
ATTACH;FMTTYPE=image/jpeg:https://piedmontvirginian.com/wp-content/uploads/2018/07/Jackie-Jouvenal-painting-in-plein-air.jpg
END:VEVENT
END:VCALENDAR