BEGIN:VCALENDAR
VERSION:2.0
PRODID:-//The Piedmont Virginian - ECPv5.3.2.1//NONSGML v1.0//EN
CALSCALE:GREGORIAN
METHOD:PUBLISH
X-WR-CALNAME:The Piedmont Virginian
X-ORIGINAL-URL:https://piedmontvirginian.com
X-WR-CALDESC:Events for The Piedmont Virginian
BEGIN:VTIMEZONE
TZID:America/New_York
BEGIN:DAYLIGHT
TZOFFSETFROM:-0500
TZOFFSETTO:-0400
TZNAME:EDT
DTSTART:20180311T070000
END:DAYLIGHT
BEGIN:STANDARD
TZOFFSETFROM:-0400
TZOFFSETTO:-0500
TZNAME:EST
DTSTART:20181104T060000
END:STANDARD
END:VTIMEZONE
BEGIN:VEVENT
DTSTART;TZID=America/New_York:20180728T200000
DTEND;TZID=America/New_York:20180728T220000
DTSTAMP:20260421T121305
CREATED:20180716T203055Z
LAST-MODIFIED:20180716T203055Z
UID:25804-1532808000-1532815200@piedmontvirginian.com
SUMMARY:Jazz & Wine Concert
DESCRIPTION:James Charles Jazz & Wine Concert is a one-of-a-kind intimate concert experience. \nThe property will become the stage for spectacular jazz talent Caleb Nei\, coupled with passed hor d’oeuvres by Fresco Kitchen\, a complimentary wine tasting and\, of course\, phenomenal wines to purchase by the glass or by the bottle. \nThis will truly by an intimate concert venue unsurpassed in beauty & intimacy – we are limited tickets to only sixty wine- and jazz lovers to keep the sense of intimacy. Anyone looking for the ultimate evening out will love this event. \nJames Charles Jazz & Wine Concert is not to be missed! \nAttire: Seersucker\, Sundresses and Wine-Country Chic. \nTickets are $40\nDoors open at 8:00pm.\nConcert starts at 8:30pm
URL:https://piedmontvirginian.com/event/jazz-wine-concert/
LOCATION:James Charles Winery & Vineyard\, 4063 Middle Rd\, Winchester\, 22602
CATEGORIES:@ Piedmont Virginian
ATTACH;FMTTYPE=image/jpeg:https://piedmontvirginian.com/wp-content/uploads/2018/07/Jazz-Wine-Concert.jpg
END:VEVENT
END:VCALENDAR