BEGIN:VCALENDAR
VERSION:2.0
PRODID:-//The Piedmont Virginian - ECPv5.3.2.1//NONSGML v1.0//EN
CALSCALE:GREGORIAN
METHOD:PUBLISH
X-WR-CALNAME:The Piedmont Virginian
X-ORIGINAL-URL:https://piedmontvirginian.com
X-WR-CALDESC:Events for The Piedmont Virginian
BEGIN:VTIMEZONE
TZID:America/New_York
BEGIN:DAYLIGHT
TZOFFSETFROM:-0500
TZOFFSETTO:-0400
TZNAME:EDT
DTSTART:20170312T070000
END:DAYLIGHT
BEGIN:STANDARD
TZOFFSETFROM:-0400
TZOFFSETTO:-0500
TZNAME:EST
DTSTART:20171105T060000
END:STANDARD
END:VTIMEZONE
BEGIN:VEVENT
DTSTART;TZID=America/New_York:20170422T140000
DTEND;TZID=America/New_York:20170422T160000
DTSTAMP:20260421T075007
CREATED:20170329T153901Z
LAST-MODIFIED:20170329T153901Z
UID:18422-1492869600-1492876800@piedmontvirginian.com
SUMMARY:JB Winemaker Series | Winemaker Tasting
DESCRIPTION:Introducing a new line of premium wines from our winemaker\, Justin Bogaty! \nJustin will be in the tasting room from 2:00 – 4:00 PM to talk about this new label and to pour 2016 JB Petit Manseng! \nJB Winemaker Series is a new brand featuring especially outstanding wines from our winemaker\, Justin! Each wine is produced in small batches for the ultimate expression of vintage and terroir – he’s excited to share these wines with you!
URL:https://piedmontvirginian.com/event/jb-winemaker-series-winemaker-tasting/
LOCATION:Bogati Winery\, 35246 Harry Byrd Hwy\, Round Hill\, 20141
CATEGORIES:@ Piedmont Virginian,Wine/Beer/Libations
ATTACH;FMTTYPE=image/jpeg:https://piedmontvirginian.com/wp-content/uploads/2017/01/justin-and-kayla_001.jpg
END:VEVENT
END:VCALENDAR