BEGIN:VCALENDAR
VERSION:2.0
PRODID:-//The Piedmont Virginian - ECPv5.3.2.1//NONSGML v1.0//EN
CALSCALE:GREGORIAN
METHOD:PUBLISH
X-WR-CALNAME:The Piedmont Virginian
X-ORIGINAL-URL:https://piedmontvirginian.com
X-WR-CALDESC:Events for The Piedmont Virginian
BEGIN:VTIMEZONE
TZID:America/New_York
BEGIN:DAYLIGHT
TZOFFSETFROM:-0500
TZOFFSETTO:-0400
TZNAME:EDT
DTSTART:20180311T070000
END:DAYLIGHT
BEGIN:STANDARD
TZOFFSETFROM:-0400
TZOFFSETTO:-0500
TZNAME:EST
DTSTART:20181104T060000
END:STANDARD
END:VTIMEZONE
BEGIN:VEVENT
DTSTART;TZID=America/New_York:20181017T080000
DTEND;TZID=America/New_York:20181017T170000
DTSTAMP:20260421T085951
CREATED:20181022T123719Z
LAST-MODIFIED:20181022T123719Z
UID:26443-1539763200-1539795600@piedmontvirginian.com
SUMMARY:“John Borden Evans: Blue Moon”
DESCRIPTION:Les Yeux du Monde is pleased to present “John Borden Evans: Blue Moon” from 13 October through 11 November 2018. Evans\, who has been exhibiting with LYDM since 1997\, is well known for his paintings of his North Garden environs seen at different times of day and in all seasons. The paintings are richly textured with countless layers of acrylic underpainting often in brilliant hues\, lending mystery\, surprise and pulsating life to the final work. Although his subjects are ordinary Virginia landscapes\, often including grazing sheep or cattle that he encounters daily\, the animals\, objects or trees take on an otherworldly aura. Every natural or man-made element in his works contains its own seed of life and energy\, thus lending a pantheistic magic to the whole. \nThere will be a Lunch with the Artist on Wednesday\, October 31 from noon to 1 p.m. (reservations required\, $15 per person) and a Closing Reception on Sunday\, November 11 from 2 – 4 p.m. For more information\, call 434-973-5566 or visit the gallery’s new website\, www.LYDM.co.
URL:https://piedmontvirginian.com/event/john-borden-evans-blue-moon/
LOCATION:Les Yeux du Monde\, 841 Wolf Trap Rd.\, Charlottesville\, VA\, 22911\, United States
CATEGORIES:@ Piedmont Virginian
END:VEVENT
END:VCALENDAR