BEGIN:VCALENDAR
VERSION:2.0
PRODID:-//The Piedmont Virginian - ECPv5.3.2.1//NONSGML v1.0//EN
CALSCALE:GREGORIAN
METHOD:PUBLISH
X-WR-CALNAME:The Piedmont Virginian
X-ORIGINAL-URL:https://piedmontvirginian.com
X-WR-CALDESC:Events for The Piedmont Virginian
BEGIN:VTIMEZONE
TZID:America/New_York
BEGIN:DAYLIGHT
TZOFFSETFROM:-0500
TZOFFSETTO:-0400
TZNAME:EDT
DTSTART:20160313T070000
END:DAYLIGHT
BEGIN:STANDARD
TZOFFSETFROM:-0400
TZOFFSETTO:-0500
TZNAME:EST
DTSTART:20161106T060000
END:STANDARD
END:VTIMEZONE
BEGIN:VEVENT
DTSTART;TZID=America/New_York:20160326T193000
DTEND;TZID=America/New_York:20160326T220000
DTSTAMP:20260419T114831
CREATED:20160318T185213Z
LAST-MODIFIED:20160318T185213Z
UID:9501-1459020600-1459029600@piedmontvirginian.com
SUMMARY:Join us at the State Theatre for the kickoff of Faith Fest
DESCRIPTION:A Community Christian Concert Series featuring a wide range of local churches and bands to nationally recognized names. This first concert features local worship leaders and churches as we gather the greater body of Culpeper to SING! What better way to celebrate Easter? Tell your church\, grab your friends\, and come celebrate with us! Worship leaders for the night are Freedom Worship Band\, White Oak Run Baptist Church\, and Tabatha Haines and King’s Highway. Adults $25\, Students (under 17) $10. 305 S. Main Street\, Culpeper. 540-829-0292. www.culpepertheatre.org
URL:https://piedmontvirginian.com/event/join-us-at-the-state-theatre-for-the-kickoff-of-faith-fest/
LOCATION:State Theatre\, 305 S. Main Street\, Culpeper\, VA\, 22701\, United States
CATEGORIES:@ Culpeper Times,Music and Concerts
END:VEVENT
END:VCALENDAR