BEGIN:VCALENDAR
VERSION:2.0
PRODID:-//The Piedmont Virginian - ECPv5.3.2.1//NONSGML v1.0//EN
CALSCALE:GREGORIAN
METHOD:PUBLISH
X-WR-CALNAME:The Piedmont Virginian
X-ORIGINAL-URL:https://piedmontvirginian.com
X-WR-CALDESC:Events for The Piedmont Virginian
BEGIN:VTIMEZONE
TZID:America/New_York
BEGIN:DAYLIGHT
TZOFFSETFROM:-0500
TZOFFSETTO:-0400
TZNAME:EDT
DTSTART:20180311T070000
END:DAYLIGHT
BEGIN:STANDARD
TZOFFSETFROM:-0400
TZOFFSETTO:-0500
TZNAME:EST
DTSTART:20181104T060000
END:STANDARD
END:VTIMEZONE
BEGIN:VEVENT
DTSTART;TZID=America/New_York:20180707T180000
DTEND;TZID=America/New_York:20180707T200000
DTSTAMP:20260421T140148
CREATED:20180611T165333Z
LAST-MODIFIED:20180611T165333Z
UID:25657-1530986400-1530993600@piedmontvirginian.com
SUMMARY:Kids Fishing Night
DESCRIPTION:Make memories that last a lifetime in the beautiful setting of Turner Pond on a summer evening. Kids\, grab some fishing gear and learn how to fish with volunteers. Visit with park rangers to learn about the critters that live in and around Turner Pond. Enjoy snacks and drinks provided by the Friends of Sky Meadows\, and have a chance to win fishing supplies and other great door prizes.\nParking for the event is $5.00 per car. Virginia resident children under 16 years of age can fish without a license. Non-resident children under 12 do not need a license if accompanied by a properly licensed adult. All others\, VA DGIF fishing regulations apply.
URL:https://piedmontvirginian.com/event/kids-fishing-night/
LOCATION:Sky Meadows State Park\, 11012 Edmonds Lane\, Delaplane\, VA\, 20144\, United States
CATEGORIES:@ Piedmont Virginian
ATTACH;FMTTYPE=image/jpeg:https://piedmontvirginian.com/wp-content/uploads/2018/06/14487151947_8a1554aa42_z.jpg
END:VEVENT
END:VCALENDAR