BEGIN:VCALENDAR
VERSION:2.0
PRODID:-//The Piedmont Virginian - ECPv5.3.2.1//NONSGML v1.0//EN
CALSCALE:GREGORIAN
METHOD:PUBLISH
X-WR-CALNAME:The Piedmont Virginian
X-ORIGINAL-URL:https://piedmontvirginian.com
X-WR-CALDESC:Events for The Piedmont Virginian
BEGIN:VTIMEZONE
TZID:America/New_York
BEGIN:DAYLIGHT
TZOFFSETFROM:-0500
TZOFFSETTO:-0400
TZNAME:EDT
DTSTART:20160313T070000
END:DAYLIGHT
BEGIN:STANDARD
TZOFFSETFROM:-0400
TZOFFSETTO:-0500
TZNAME:EST
DTSTART:20161106T060000
END:STANDARD
END:VTIMEZONE
BEGIN:VEVENT
DTSTART;TZID=America/New_York:20160903T110000
DTEND;TZID=America/New_York:20160904T190000
DTSTAMP:20260421T044819
CREATED:20160720T160025Z
LAST-MODIFIED:20160720T160025Z
UID:14248-1472900400-1473015600@piedmontvirginian.com
SUMMARY:Labor Day Weekend at Narmada Winery
DESCRIPTION:Saturday September 3rd\, Sunday September 4th & Monday September 5th – Labor Day Weekend\nCome out to Narmada Winery to enjoy relaxing with great wines and music during your long Labor Day Weekend. Play a fun game of cornhole and listen to live music!\nListen to live music every day! Saturday 3-6pm by Mosby Territory\, Sunday 2-5pm by Jon Banuelos & Monday 1-4pm by Tom Guidice!
URL:https://piedmontvirginian.com/event/labor-day-weekend-at-narmada-winery/
LOCATION:Narmada Winery\, 43 Narmada Ln\, Amissville\, 20106
CATEGORIES:@ Piedmont Virginian,@ Rappahannock News,Wine/Beer/Libations
ATTACH;FMTTYPE=image/jpeg:https://piedmontvirginian.com/wp-content/uploads/2016/07/chambourcin-veraison-14.jpg
END:VEVENT
END:VCALENDAR