BEGIN:VCALENDAR
VERSION:2.0
PRODID:-//The Piedmont Virginian - ECPv5.3.2.1//NONSGML v1.0//EN
CALSCALE:GREGORIAN
METHOD:PUBLISH
X-WR-CALNAME:The Piedmont Virginian
X-ORIGINAL-URL:https://piedmontvirginian.com
X-WR-CALDESC:Events for The Piedmont Virginian
BEGIN:VTIMEZONE
TZID:America/New_York
BEGIN:DAYLIGHT
TZOFFSETFROM:-0500
TZOFFSETTO:-0400
TZNAME:EDT
DTSTART:20160313T070000
END:DAYLIGHT
BEGIN:STANDARD
TZOFFSETFROM:-0400
TZOFFSETTO:-0500
TZNAME:EST
DTSTART:20161106T060000
END:STANDARD
END:VTIMEZONE
BEGIN:VEVENT
DTSTART;TZID=America/New_York:20160903T130000
DTEND;TZID=America/New_York:20160903T190000
DTSTAMP:20260423T084257
CREATED:20160825T184550Z
LAST-MODIFIED:20160825T184550Z
UID:14373-1472907600-1472929200@piedmontvirginian.com
SUMMARY:Labor Day Weekend Celebration
DESCRIPTION:Celebrate hardworking Americans and treat yourself to a day of relaxation this Labor Day! Delicious\, award-winning eats from the Top Flight BBQ food truck will be available all day\, then party it up with Robbie Limon from 3:30 – 6:30! This is a FREE event – celebrate your long weekend with savory BBQ\, great music and refreshing James Charles wine!
URL:https://piedmontvirginian.com/event/labor-day-weekend-celebration/
LOCATION:James Charles Winery & Vineyard\, 4063 Middle Rd\, Winchester\, 22602
CATEGORIES:@ Piedmont Virginian,Wine/Beer/Libations
ATTACH;FMTTYPE=image/jpeg:https://piedmontvirginian.com/wp-content/uploads/2016/07/Robbie-Limon.jpg
END:VEVENT
END:VCALENDAR