BEGIN:VCALENDAR
VERSION:2.0
PRODID:-//The Piedmont Virginian - ECPv5.3.2.1//NONSGML v1.0//EN
CALSCALE:GREGORIAN
METHOD:PUBLISH
X-WR-CALNAME:The Piedmont Virginian
X-ORIGINAL-URL:https://piedmontvirginian.com
X-WR-CALDESC:Events for The Piedmont Virginian
BEGIN:VTIMEZONE
TZID:America/New_York
BEGIN:DAYLIGHT
TZOFFSETFROM:-0500
TZOFFSETTO:-0400
TZNAME:EDT
DTSTART:20170312T070000
END:DAYLIGHT
BEGIN:STANDARD
TZOFFSETFROM:-0400
TZOFFSETTO:-0500
TZNAME:EST
DTSTART:20171105T060000
END:STANDARD
END:VTIMEZONE
BEGIN:VEVENT
DTSTART;TZID=America/New_York:20171104T100000
DTEND;TZID=America/New_York:20171104T130000
DTSTAMP:20260419T145454
CREATED:20171102T174812Z
LAST-MODIFIED:20171102T174812Z
UID:24051-1509789600-1509800400@piedmontvirginian.com
SUMMARY:Leadership Development Workshop
DESCRIPTION:Culpeper Toastmasters Club will host a Leadership Development workshop from 10:15 a.m. to 1:15 p.m. at the Culpeper County\nLibrary. Admission to the event is free\, though pre-registration is required and can be done through https://www.eventbrite.com/e/nov-4-leadership-development-workshops-tickets-38397048606. \nFor more information visit http://culpeper.toastmastersclubs.org/workshops.html.
URL:https://piedmontvirginian.com/event/leadership-development-workshop/
LOCATION:Culpeper County Library\, 271 Southgate Shopping Center\, Culpeper\, VA\, 22701\, United States
CATEGORIES:@ Culpeper Times
END:VEVENT
END:VCALENDAR