BEGIN:VCALENDAR
VERSION:2.0
PRODID:-//The Piedmont Virginian - ECPv5.3.2.1//NONSGML v1.0//EN
CALSCALE:GREGORIAN
METHOD:PUBLISH
X-WR-CALNAME:The Piedmont Virginian
X-ORIGINAL-URL:https://piedmontvirginian.com
X-WR-CALDESC:Events for The Piedmont Virginian
BEGIN:VTIMEZONE
TZID:America/New_York
BEGIN:DAYLIGHT
TZOFFSETFROM:-0500
TZOFFSETTO:-0400
TZNAME:EDT
DTSTART:20160313T070000
END:DAYLIGHT
BEGIN:STANDARD
TZOFFSETFROM:-0400
TZOFFSETTO:-0500
TZNAME:EST
DTSTART:20161106T060000
END:STANDARD
END:VTIMEZONE
BEGIN:VEVENT
DTSTART;TZID=America/New_York:20160330T190000
DTEND;TZID=America/New_York:20160330T210000
DTSTAMP:20260419T215122
CREATED:20160318T190121Z
LAST-MODIFIED:20160318T190121Z
UID:9506-1459364400-1459371600@piedmontvirginian.com
SUMMARY:Library of Congress Packard Campus Theatre presents HARRY POTTER AND THE PRISONER OF AZKABAN
DESCRIPTION:(Warner Bros.\, 2004). Among the goings-on as Harry\, Ron and Hermione return to Hogworts for their third year of wizarding instruction: convicted murderer Sirius Black (Gary Oldman) escapes from Azkaban Prison and the Ministry of Magic entrusts the foul and soulless Dementors of Azkaban to guard Hogwarts from the escaped prisoner. Starts at 7 p.m.  Free\, at the Library of Congress Packard Campus Theater located at 19053 Mt. Pony Rd. in Culpeper\, VA. No reservations required. Children 13 and under must be accompanied by an adult. For more information\, call 202-707-9994.
URL:https://piedmontvirginian.com/event/library-of-congress-packard-campus-theatre-presents-harry-potter-and-the-prisoner-of-azkaban/
LOCATION:Library of Congress Packard Campus Theater\, 19053 Mt. Pony Rd.\, Culpeper\, VA\, 22701\, United States
CATEGORIES:@ Culpeper Times
END:VEVENT
END:VCALENDAR