BEGIN:VCALENDAR
VERSION:2.0
PRODID:-//The Piedmont Virginian - ECPv5.3.2.1//NONSGML v1.0//EN
CALSCALE:GREGORIAN
METHOD:PUBLISH
X-WR-CALNAME:The Piedmont Virginian
X-ORIGINAL-URL:https://piedmontvirginian.com
X-WR-CALDESC:Events for The Piedmont Virginian
BEGIN:VTIMEZONE
TZID:America/New_York
BEGIN:DAYLIGHT
TZOFFSETFROM:-0500
TZOFFSETTO:-0400
TZNAME:EDT
DTSTART:20170312T070000
END:DAYLIGHT
BEGIN:STANDARD
TZOFFSETFROM:-0400
TZOFFSETTO:-0500
TZNAME:EST
DTSTART:20171105T060000
END:STANDARD
END:VTIMEZONE
BEGIN:VEVENT
DTSTART;TZID=America/New_York:20170601T100000
DTEND;TZID=America/New_York:20170601T210000
DTSTAMP:20260421T060438
CREATED:20170523T184553Z
LAST-MODIFIED:20170523T184553Z
UID:21007-1496311200-1496350800@piedmontvirginian.com
SUMMARY:“Light:  received\, released\, refracted\, retained”
DESCRIPTION:The Arts In The Village Gallery is proud to announce its Featured Artist Exhibit for June: “Light: received\, released\, refracted\, retained”. This show highlights works by copper artist Anne Jordan and photographer James Norman. Their works are a celebration of light and will be on display the entire month of June. \nFor this exhibit\, Anne Jordan has created floral candlesticks\, mirrors and fountains\, each relating to light in its own way. She has carefully formed the hard copper into delicate looking roses\, dogwood flowers and ivy vines. In addition\, she has collaborated with lamp work artist Julie Bahun\, to create unique candlesticks incorporating beautiful large glass beads. \nPhotographer James Norman has prepared a collection of prints of some of his favorite landscape images captured in remote locations in Alaska\, Iceland and elsewhere. Although lighting is always an important consideration in every photograph\, there are times when nature dramatically illuminates a landscape in a way the reveals hidden details or unexpected color. \nDuring the reception on June 17th\, from 6-8 pm\, Anne will demonstrate some of her techniques\, and James will explain some of the techniques he employs in his photography. This is a wonderful opportunity to meet the artists and see that work that goes behind creating the art.
URL:https://piedmontvirginian.com/event/light-received-released-refracted-retained/
LOCATION:Arts in the Village Gallery\, 1601 Village Market Blvd.\, Suite 116\, Leeburg\, 20175
CATEGORIES:@ Piedmont Virginian,Art
ATTACH;FMTTYPE=image/jpeg:https://piedmontvirginian.com/wp-content/uploads/2017/05/Bombay-Hook-February-2015-151742-2017.jpeg
END:VEVENT
END:VCALENDAR