BEGIN:VCALENDAR
VERSION:2.0
PRODID:-//The Piedmont Virginian - ECPv5.3.2.1//NONSGML v1.0//EN
CALSCALE:GREGORIAN
METHOD:PUBLISH
X-WR-CALNAME:The Piedmont Virginian
X-ORIGINAL-URL:https://piedmontvirginian.com
X-WR-CALDESC:Events for The Piedmont Virginian
BEGIN:VTIMEZONE
TZID:America/New_York
BEGIN:DAYLIGHT
TZOFFSETFROM:-0500
TZOFFSETTO:-0400
TZNAME:EDT
DTSTART:20170312T070000
END:DAYLIGHT
BEGIN:STANDARD
TZOFFSETFROM:-0400
TZOFFSETTO:-0500
TZNAME:EST
DTSTART:20171105T060000
END:STANDARD
END:VTIMEZONE
BEGIN:VEVENT
DTSTART;TZID=America/New_York:20170805T183000
DTEND;TZID=America/New_York:20170805T200000
DTSTAMP:20260421T204405
CREATED:20170705T195319Z
LAST-MODIFIED:20170705T195319Z
UID:21558-1501957800-1501963200@piedmontvirginian.com
SUMMARY:"Lil' Maceo" Kareem Walkes - SummerSounds concert
DESCRIPTION:International Saxophonist Kareem Walkes\, is quickly becoming one of contemporary jazz’s most thrilling and emotive performers\, and continues to stand out and push boundaries as a composer\, performer\, and recording artist. He’s becoming the go-to sax-man for artists like Cyril Neville\, Li’nard’s Many Moods\, and Blues Hall Of Famer Slam Allen. Kareem’s playing\, though inspired by Maceo Parker and Candy Dulfer\, among others\, displays his own fresh ideas and distinctive tone. Born and raised in Queens New York\, home to many Jazz legends like Louis Armstrong\, Count Basie to name a few\, Kareem has been breathing powerful\, soulful\, raw energy into his saxophone since the age of 18.
URL:https://piedmontvirginian.com/event/lil-maceo-kareem-walkes-summersounds-concert/
LOCATION:Harris Pavilion\, 9201 Center Street\, Manassas\, 20110
CATEGORIES:@ Piedmont Virginian,Music and Concerts
ATTACH;FMTTYPE=image/jpeg:https://piedmontvirginian.com/wp-content/uploads/2017/06/Lil-Maceo-at-JVs-028-orange.jpg
END:VEVENT
END:VCALENDAR