BEGIN:VCALENDAR
VERSION:2.0
PRODID:-//The Piedmont Virginian - ECPv5.3.2.1//NONSGML v1.0//EN
CALSCALE:GREGORIAN
METHOD:PUBLISH
X-WR-CALNAME:The Piedmont Virginian
X-ORIGINAL-URL:https://piedmontvirginian.com
X-WR-CALDESC:Events for The Piedmont Virginian
BEGIN:VTIMEZONE
TZID:America/New_York
BEGIN:DAYLIGHT
TZOFFSETFROM:-0500
TZOFFSETTO:-0400
TZNAME:EDT
DTSTART:20170312T070000
END:DAYLIGHT
BEGIN:STANDARD
TZOFFSETFROM:-0400
TZOFFSETTO:-0500
TZNAME:EST
DTSTART:20171105T060000
END:STANDARD
END:VTIMEZONE
BEGIN:VEVENT
DTSTART;TZID=America/New_York:20170506T080000
DTEND;TZID=America/New_York:20170506T170000
DTSTAMP:20260419T172849
CREATED:20170126T225633Z
LAST-MODIFIED:20170126T225633Z
UID:18732-1494057600-1494090000@piedmontvirginian.com
SUMMARY:Living History Cruise\, Baltimore Maryland Day Trip
DESCRIPTION:AARP\, Chapter 5329 at Lake of the Woods is sponsoring a motorcoach day trip departing from Lake of the Woods. \nLiving History Cruise\, Baltimore Maryland  Saturday\, May 6\, 2017 \nSet sail on a 6-hour cruise on the SS John W. Brown the only fully restored WWll liberty ship on the east coast. Enjoy an action-packed re-enactment with vintage aircraft’s flying over head\, entertainment\, tour of the ship and lunch. \nPrice: $205.00 \nContact Barbara at (540) 972-4651 or wisecruiser@hotmail.com
URL:https://piedmontvirginian.com/event/living-history-cruise-baltimore-maryland-day-trip/
CATEGORIES:@ Culpeper Times
END:VEVENT
END:VCALENDAR