BEGIN:VCALENDAR
VERSION:2.0
PRODID:-//The Piedmont Virginian - ECPv5.3.2.1//NONSGML v1.0//EN
CALSCALE:GREGORIAN
METHOD:PUBLISH
X-WR-CALNAME:The Piedmont Virginian
X-ORIGINAL-URL:https://piedmontvirginian.com
X-WR-CALDESC:Events for The Piedmont Virginian
BEGIN:VTIMEZONE
TZID:America/New_York
BEGIN:DAYLIGHT
TZOFFSETFROM:-0500
TZOFFSETTO:-0400
TZNAME:EDT
DTSTART:20180311T070000
END:DAYLIGHT
BEGIN:STANDARD
TZOFFSETFROM:-0400
TZOFFSETTO:-0500
TZNAME:EST
DTSTART:20181104T060000
END:STANDARD
END:VTIMEZONE
BEGIN:VEVENT
DTSTART;TZID=America/New_York:20180616T140000
DTEND;TZID=America/New_York:20180616T160000
DTSTAMP:20260421T144128
CREATED:20180611T165006Z
LAST-MODIFIED:20180611T165006Z
UID:25671-1529157600-1529164800@piedmontvirginian.com
SUMMARY:Loaves & Fishes Food Pantry Invites Public to Open House Tour
DESCRIPTION:Loaves & Fishes Food Pantry\, Inc. invites the community to attend an Open House and tour of their facility at 2050 Lambs Road\, Charlottesville\, VA from 2-4 pm on Saturday\, June 16\, 2018. In 2017\, Loaves & Fishes helped feed an average of 4\,924 individuals in the community each month (1\,467 low-income households)\, by distributing more than 2.3 million pounds of free food\, which averaged 40 pounds–or 11 days of food–per person per visit. Four days every week\, Loaves & Fishes offers the “client choice” model of food distribution\, which lets those in need select the best food for dietary restrictions and foods their families will eat\, while adding dignity to the process of seeking aid. \nTo attend the Open House\, visit https://www.eventbrite.com/myevent?eid=46229308105. For more information on volunteering\, donating\, or receiving food\, call or email Jane Colony Mills at 434-996-7868 or executivedirector@cvilleloavesandfishes.org\, or visit our website: www.cvilleloavesandfishes.org.
URL:https://piedmontvirginian.com/event/loaves-fishes-food-pantry-invites-public-to-open-house-tour/
LOCATION:Loaves & Fishes Food Pantry\, 2050 Lambs Road\, Charlottesville\, VA\, 22901\, United States
CATEGORIES:@ Piedmont Virginian
ATTACH;FMTTYPE=image/jpeg:https://piedmontvirginian.com/wp-content/uploads/2018/06/Mixed-ice-cream-Stock-Photo-02.jpg
END:VEVENT
END:VCALENDAR