BEGIN:VCALENDAR
VERSION:2.0
PRODID:-//The Piedmont Virginian - ECPv5.3.2.1//NONSGML v1.0//EN
CALSCALE:GREGORIAN
METHOD:PUBLISH
X-WR-CALNAME:The Piedmont Virginian
X-ORIGINAL-URL:https://piedmontvirginian.com
X-WR-CALDESC:Events for The Piedmont Virginian
BEGIN:VTIMEZONE
TZID:America/New_York
BEGIN:DAYLIGHT
TZOFFSETFROM:-0500
TZOFFSETTO:-0400
TZNAME:EDT
DTSTART:20160313T070000
END:DAYLIGHT
BEGIN:STANDARD
TZOFFSETFROM:-0400
TZOFFSETTO:-0500
TZNAME:EST
DTSTART:20161106T060000
END:STANDARD
END:VTIMEZONE
BEGIN:VEVENT
DTSTART;TZID=America/New_York:20161005T120000
DTEND;TZID=America/New_York:20161029T150000
DTSTAMP:20260419T150118
CREATED:20160928T153408Z
LAST-MODIFIED:20160928T153408Z
UID:16852-1475668800-1477753200@piedmontvirginian.com
SUMMARY:LOOKING UP: Multi-Media Art by Tia Maggio
DESCRIPTION:The exhibit features multi-media art by local artist Tia Maggio including oils\, pastels\, and color pencil sketches. \nThe exhibit runs from Wednesday\, October 5 – Saturday\, October 29\, 2016.\nExhibit Admission is free. Our Exhibits are open Tuesday-Saturday (Closed Mondays) from Noon to 3:00 PM as well as during concerts and by appointment. \nThere will also be an Artist Reception on the final day of the exhibit – Saturday\, October 29 from 6:00 to 7:00 PM. \nAbout the Artist: It has been 25 years since Tia Maggio moved from the Big Apple to (then) rural Loudoun County Virginia\, and where she raised her two children. Currently she resides in bucolic Millwood\, a place that has provided much inspiration. Her pastels of sloping Piedmont hills and skies have been exhibited locally in Northern Virginia and New York City\, and are in private collections in the U.S.\, Italy\, Southern France\, and most recently\, Guatemala. Tia pulls her inspiration from nature as “it is the only thing that really makes sense to me – wild sunsets\, storms\, brambles and branches.” Once described as a tonalist\, she describes herself as a nature based expressionist.
URL:https://piedmontvirginian.com/event/looking-up-multi-media-art-by-tia-maggio/
LOCATION:The Barns at Rose Hill\, 95 Chalmers Court\, Berryville\, VA\, 22611\, United States
CATEGORIES:@ Piedmont Virginian,Art
ATTACH;FMTTYPE=image/jpeg:https://piedmontvirginian.com/wp-content/uploads/2016/09/tia-collage2.jpg
END:VEVENT
END:VCALENDAR