BEGIN:VCALENDAR
VERSION:2.0
PRODID:-//The Piedmont Virginian - ECPv5.3.2.1//NONSGML v1.0//EN
CALSCALE:GREGORIAN
METHOD:PUBLISH
X-WR-CALNAME:The Piedmont Virginian
X-ORIGINAL-URL:https://piedmontvirginian.com
X-WR-CALDESC:Events for The Piedmont Virginian
BEGIN:VTIMEZONE
TZID:America/New_York
BEGIN:DAYLIGHT
TZOFFSETFROM:-0500
TZOFFSETTO:-0400
TZNAME:EDT
DTSTART:20160313T070000
END:DAYLIGHT
BEGIN:STANDARD
TZOFFSETFROM:-0400
TZOFFSETTO:-0500
TZNAME:EST
DTSTART:20161106T060000
END:STANDARD
END:VTIMEZONE
BEGIN:VEVENT
DTSTART;TZID=America/New_York:20160826T090000
DTEND;TZID=America/New_York:20160826T210000
DTSTAMP:20260419T181550
CREATED:20160825T195956Z
LAST-MODIFIED:20160825T195956Z
UID:15225-1472202000-1472245200@piedmontvirginian.com
SUMMARY:"Love and ... Forgive One Another" Prayer Vigil
DESCRIPTION:9 a.m. to 9 p.m. at Reformation Lutheran Church\, 509 South Main Street\, Culpeper. The Congregational Elders are sponsoring this 12-hour vigil. Please join us at any time throughout the hours of the vigil. For more info call the church office at (540) 825-1376.
URL:https://piedmontvirginian.com/event/love-and-forgive-one-another-prayer-vigil/
CATEGORIES:@ Culpeper Times
END:VEVENT
END:VCALENDAR