BEGIN:VCALENDAR
VERSION:2.0
PRODID:-//The Piedmont Virginian - ECPv5.3.2.1//NONSGML v1.0//EN
CALSCALE:GREGORIAN
METHOD:PUBLISH
X-WR-CALNAME:The Piedmont Virginian
X-ORIGINAL-URL:https://piedmontvirginian.com
X-WR-CALDESC:Events for The Piedmont Virginian
BEGIN:VTIMEZONE
TZID:America/New_York
BEGIN:DAYLIGHT
TZOFFSETFROM:-0500
TZOFFSETTO:-0400
TZNAME:EDT
DTSTART:20180311T070000
END:DAYLIGHT
BEGIN:STANDARD
TZOFFSETFROM:-0400
TZOFFSETTO:-0500
TZNAME:EST
DTSTART:20181104T060000
END:STANDARD
END:VTIMEZONE
BEGIN:VEVENT
DTSTART;TZID=America/New_York:20181023T080000
DTEND;TZID=America/New_York:20181031T170000
DTSTAMP:20260421T085936
CREATED:20181010T203702Z
LAST-MODIFIED:20181010T203702Z
UID:26353-1540281600-1541005200@piedmontvirginian.com
SUMMARY:Master Gardener Training Announcement
DESCRIPTION:One-hour information sessions on becoming a master gardener will be held in Charlottesville\, noon to 1p.m. on October 23 at the Central Library\, October 26 at the Albemarle County Building and October 31 at the Northside Library. Applications will be distributed at the meeting and can be downloaded at http://piedmontmastergardeners.org/volunteer. For further information\, contact Scott Boven\, (434) 872-4581\, sboven@vt.edu\, or drop by the Virginia Cooperative Extension at the Fifth Street Albemarle County Office Building 2nd floor\, 460 Stagecoach Road\, Charlottesville VA 22902.
URL:https://piedmontvirginian.com/event/master-gardener-training-announcement/
LOCATION:VA\, United States
CATEGORIES:@ Piedmont Virginian
END:VEVENT
END:VCALENDAR