BEGIN:VCALENDAR
VERSION:2.0
PRODID:-//The Piedmont Virginian - ECPv5.3.2.1//NONSGML v1.0//EN
CALSCALE:GREGORIAN
METHOD:PUBLISH
X-WR-CALNAME:The Piedmont Virginian
X-ORIGINAL-URL:https://piedmontvirginian.com
X-WR-CALDESC:Events for The Piedmont Virginian
BEGIN:VTIMEZONE
TZID:America/New_York
BEGIN:DAYLIGHT
TZOFFSETFROM:-0500
TZOFFSETTO:-0400
TZNAME:EDT
DTSTART:20160313T070000
END:DAYLIGHT
BEGIN:STANDARD
TZOFFSETFROM:-0400
TZOFFSETTO:-0500
TZNAME:EST
DTSTART:20161106T060000
END:STANDARD
END:VTIMEZONE
BEGIN:VEVENT
DTSTART;TZID=America/New_York:20160409T000000
DTEND;TZID=America/New_York:20160409T000000
DTSTAMP:20260421T044505
CREATED:20160306T200018Z
LAST-MODIFIED:20160306T200213Z
UID:9038-1460160000-1460160000@piedmontvirginian.com
SUMMARY:Mavis Staples
DESCRIPTION:The Paramount Theater of Charlottesville is thrilled to announce that the legendary singer Mavis Staples will take the stage on Saturday\, April 9 at 8PM. Grammy Award Winning\, Rock and Roll Hall of Fame inductee\, and one of Rolling Stones 100 Greatest Singers of All Times in 2008.Tickets  can be purchased online at www.theparamount.net\, in person at The Paramount Box Office\, or by phone at 434.979.1333.
URL:https://piedmontvirginian.com/event/mavis-staples/
ATTACH;FMTTYPE=:
END:VEVENT
END:VCALENDAR