BEGIN:VCALENDAR
VERSION:2.0
PRODID:-//The Piedmont Virginian - ECPv5.3.2.1//NONSGML v1.0//EN
CALSCALE:GREGORIAN
METHOD:PUBLISH
X-WR-CALNAME:The Piedmont Virginian
X-ORIGINAL-URL:https://piedmontvirginian.com
X-WR-CALDESC:Events for The Piedmont Virginian
BEGIN:VTIMEZONE
TZID:America/New_York
BEGIN:DAYLIGHT
TZOFFSETFROM:-0500
TZOFFSETTO:-0400
TZNAME:EDT
DTSTART:20180311T070000
END:DAYLIGHT
BEGIN:STANDARD
TZOFFSETFROM:-0400
TZOFFSETTO:-0500
TZNAME:EST
DTSTART:20181104T060000
END:STANDARD
END:VTIMEZONE
BEGIN:VEVENT
DTSTART;TZID=America/New_York:20180919T180000
DTEND;TZID=America/New_York:20180919T193000
DTSTAMP:20260421T104351
CREATED:20180817T145539Z
LAST-MODIFIED:20180817T145539Z
UID:25994-1537380000-1537385400@piedmontvirginian.com
SUMMARY:Meet the Author with Alastair Jackson
DESCRIPTION:Join NSLM and author Alastair Jackson for a presentation on his newest publication\, Lady of the Chase\, The Life and Hunting Diaries of Daphne Moore. Longtime reporter in Horse and Hound\, the elegantly turned-out Moore lived on a shoe-string budget\, following the hounds and reporting on hunting characters from the 1930s to the 80s. In addition to her professional hunting reports she wrote- and illustrated- these personal hunt diaries. Alastair Jackson\, the retired Director of the British Masters of Foxhounds Association\, compiled the previously undiscovered hunting diaries of Daphne Moore\, making them available to the public for the first time. $10 admission\, free to NSLM members. Copies available for purchase at the event. RSVP to Anne Marie Paquette\, the Clarice & Robert H. Smith Educator\, APaquette@NationalSporting.org\, 540 687 6542 x25.
URL:https://piedmontvirginian.com/event/meet-the-author-with-alastair-jackson/
LOCATION:National Sporting Library & Museum\, 102 The Plains Road\, Middleburg\, 20117
CATEGORIES:@ Piedmont Virginian
END:VEVENT
END:VCALENDAR