BEGIN:VCALENDAR
VERSION:2.0
PRODID:-//The Piedmont Virginian - ECPv5.3.2.1//NONSGML v1.0//EN
CALSCALE:GREGORIAN
METHOD:PUBLISH
X-WR-CALNAME:The Piedmont Virginian
X-ORIGINAL-URL:https://piedmontvirginian.com
X-WR-CALDESC:Events for The Piedmont Virginian
BEGIN:VTIMEZONE
TZID:America/New_York
BEGIN:DAYLIGHT
TZOFFSETFROM:-0500
TZOFFSETTO:-0400
TZNAME:EDT
DTSTART:20180311T070000
END:DAYLIGHT
BEGIN:STANDARD
TZOFFSETFROM:-0400
TZOFFSETTO:-0500
TZNAME:EST
DTSTART:20181104T060000
END:STANDARD
END:VTIMEZONE
BEGIN:VEVENT
DTSTART;TZID=America/New_York:20180512T110000
DTEND;TZID=America/New_York:20180513T180000
DTSTAMP:20260421T044942
CREATED:20180507T202330Z
LAST-MODIFIED:20180507T202330Z
UID:25517-1526122800-1526234400@piedmontvirginian.com
SUMMARY:Mother's Day Weekend at Narmada Winery - free wine for moms and Buffet Indian Lunch for purchase.
DESCRIPTION:Complimentary wine tastings and roses for Moms all weekend! Live music Saturday from 2-5pm by Anderson Paulson Project and Sunday 2-5pm by singer Thom Feucht. Delicious food pairings all weekend\, chair massages ($15\, available Sunday 12-3pm)\, Henna hand painting ($5 per hand\, available Sunday) and much more! \nTreat mom to a festive Indian style lunch at Narmada Winery. Buffet lunch $17.00 offered between 11am-6pm on Saturday and 11am-5pm on Sunday. Pre-orders can be purchased here. \nNarmada’s signature wine MOM – an appealing white wine with tropical notes of pineapple and passion fruit – makes a great gift for Mom\, Grandmom\, Mother-in-Law\, and\, hey\, you’re a Mom too\, right? We’re offering 15% savings on each bottle and 50% off a case so why not stock up?
URL:https://piedmontvirginian.com/event/mothers-day-weekend-at-narmada-winery-free-wine-for-moms-and-buffet-indian-lunch-for-purchase/
LOCATION:Narmada Winery\, 43 Narmada Ln\, Amissville\, 20106
CATEGORIES:@ Piedmont Virginian
ATTACH;FMTTYPE=image/jpeg:https://piedmontvirginian.com/wp-content/uploads/2018/05/Narmada-Mom-gift-cropped-and-small-for-web-viewing-1.jpg
END:VEVENT
END:VCALENDAR