BEGIN:VCALENDAR
VERSION:2.0
PRODID:-//The Piedmont Virginian - ECPv5.3.2.1//NONSGML v1.0//EN
CALSCALE:GREGORIAN
METHOD:PUBLISH
X-WR-CALNAME:The Piedmont Virginian
X-ORIGINAL-URL:https://piedmontvirginian.com
X-WR-CALDESC:Events for The Piedmont Virginian
BEGIN:VTIMEZONE
TZID:America/New_York
BEGIN:DAYLIGHT
TZOFFSETFROM:-0500
TZOFFSETTO:-0400
TZNAME:EDT
DTSTART:20170312T070000
END:DAYLIGHT
BEGIN:STANDARD
TZOFFSETFROM:-0400
TZOFFSETTO:-0500
TZNAME:EST
DTSTART:20171105T060000
END:STANDARD
END:VTIMEZONE
BEGIN:VEVENT
DTSTART;TZID=America/New_York:20170506T103000
DTEND;TZID=America/New_York:20170506T160000
DTSTAMP:20260419T125622
CREATED:20170504T170049Z
LAST-MODIFIED:20170504T170049Z
UID:20726-1494066600-1494086400@piedmontvirginian.com
SUMMARY:Motorcycle Poker Run
DESCRIPTION:ABATE of Virginia Culpeper Chapter is hosting a Spring Poker Run. Approx 100-mile scenic Poker Run. Sign up starts at 10:30 a.m. at Pepper’s Grill\, 791 Madison Rd\,Culpeper\, VA.  Group rides out at 11 a.m.  $20 per hand\, cash prizes.  All enthusiasts welcome!  Proceeds to benefit motorcyclists’ rights in the Commonwealth of Virginia. Contact Sharon Keaton at skeaton888@gmail.com For more information\, visit ABATEVA.org.
URL:https://piedmontvirginian.com/event/motorcycle-poker-run-2/
LOCATION:Pepper’s Grill\, 791 Madison road\, Culpeper\, VA\, 22701\, United States
CATEGORIES:@ Culpeper Times,Outdoor Events
END:VEVENT
END:VCALENDAR