BEGIN:VCALENDAR
VERSION:2.0
PRODID:-//The Piedmont Virginian - ECPv5.3.2.1//NONSGML v1.0//EN
CALSCALE:GREGORIAN
METHOD:PUBLISH
X-WR-CALNAME:The Piedmont Virginian
X-ORIGINAL-URL:https://piedmontvirginian.com
X-WR-CALDESC:Events for The Piedmont Virginian
BEGIN:VTIMEZONE
TZID:America/New_York
BEGIN:DAYLIGHT
TZOFFSETFROM:-0500
TZOFFSETTO:-0400
TZNAME:EDT
DTSTART:20170312T070000
END:DAYLIGHT
BEGIN:STANDARD
TZOFFSETFROM:-0400
TZOFFSETTO:-0500
TZNAME:EST
DTSTART:20171105T060000
END:STANDARD
END:VTIMEZONE
BEGIN:VEVENT
DTSTART;TZID=America/New_York:20171104T140000
DTEND;TZID=America/New_York:20171104T170000
DTSTAMP:20260419T163058
CREATED:20170921T171609Z
LAST-MODIFIED:20170921T171609Z
UID:23412-1509804000-1509814800@piedmontvirginian.com
SUMMARY:Music on the Patio with Bomar & Ritter at DuCard Vineyards
DESCRIPTION:Chill out on the patio with some cool wine and the talents of acoustic duo Bomar & Ritter. This singer/songwriter duo mixes it up with their own blend of folk\, rock\, ballads\, and blues. Wine tastings and light fare available for purchase. No cover.
URL:https://piedmontvirginian.com/event/music-on-the-patio-with-bomar-ritter-at-ducard-vineyards/
LOCATION:Ducard Vineyards\, 40 Gibson Hollow Ln\, Etlan \, VA\, 22719\, United States
CATEGORIES:@ Piedmont Virginian,Music and Concerts,Wine/Beer/Libations
ATTACH;FMTTYPE=image/jpeg:https://piedmontvirginian.com/wp-content/uploads/2017/09/Bomar-and-Ritter-2016.jpg
END:VEVENT
END:VCALENDAR