BEGIN:VCALENDAR
VERSION:2.0
PRODID:-//The Piedmont Virginian - ECPv5.3.2.1//NONSGML v1.0//EN
CALSCALE:GREGORIAN
METHOD:PUBLISH
X-WR-CALNAME:The Piedmont Virginian
X-ORIGINAL-URL:https://piedmontvirginian.com
X-WR-CALDESC:Events for The Piedmont Virginian
BEGIN:VTIMEZONE
TZID:America/New_York
BEGIN:DAYLIGHT
TZOFFSETFROM:-0500
TZOFFSETTO:-0400
TZNAME:EDT
DTSTART:20170312T070000
END:DAYLIGHT
BEGIN:STANDARD
TZOFFSETFROM:-0400
TZOFFSETTO:-0500
TZNAME:EST
DTSTART:20171105T060000
END:STANDARD
END:VTIMEZONE
BEGIN:VEVENT
DTSTART;TZID=America/New_York:20170507T150000
DTEND;TZID=America/New_York:20170507T170000
DTSTAMP:20260419T162207
CREATED:20170504T171605Z
LAST-MODIFIED:20170504T171605Z
UID:20748-1494169200-1494176400@piedmontvirginian.com
SUMMARY:Music
DESCRIPTION:The Blue Ridge Chorale presents “A Broadway Musical Medley” at 3 p.m. at Anne Marie Sheridan Amphitheatre\, 17044 Adventure Bound Trail\, Rixeyville. $12/adults\, $6/children 2-12. Children under 2 free. Lawn seating. Bring your own chairs. 540 -219-8837
URL:https://piedmontvirginian.com/event/music/
LOCATION:Verdun Adventure Bound\, 16436 Carpe Diem Drive\, Rixeyville\, VA\, 22737\, United States
CATEGORIES:@ Culpeper Times,Music and Concerts
END:VEVENT
END:VCALENDAR