BEGIN:VCALENDAR
VERSION:2.0
PRODID:-//The Piedmont Virginian - ECPv5.3.2.1//NONSGML v1.0//EN
CALSCALE:GREGORIAN
METHOD:PUBLISH
X-WR-CALNAME:The Piedmont Virginian
X-ORIGINAL-URL:https://piedmontvirginian.com
X-WR-CALDESC:Events for The Piedmont Virginian
BEGIN:VTIMEZONE
TZID:America/New_York
BEGIN:DAYLIGHT
TZOFFSETFROM:-0500
TZOFFSETTO:-0400
TZNAME:EDT
DTSTART:20180311T070000
END:DAYLIGHT
BEGIN:STANDARD
TZOFFSETFROM:-0400
TZOFFSETTO:-0500
TZNAME:EST
DTSTART:20181104T060000
END:STANDARD
END:VTIMEZONE
BEGIN:VEVENT
DTSTART;TZID=America/New_York:20181006T110000
DTEND;TZID=America/New_York:20181006T190000
DTSTAMP:20260421T092312
CREATED:20180301T164212Z
LAST-MODIFIED:20180301T164212Z
UID:24681-1538823600-1538852400@piedmontvirginian.com
SUMMARY:Narmada Winery Columbus Day Weekend - Saturday October 6th - Monday October 8th
DESCRIPTION:Come out to Narmada Winery to enjoy relaxing with great wines and music during your long Columbus Day Weekend. Play a game of Cornhole or badminton and enjoy delicious food specials while sipping on your favorite Narmada Wines.\nHours: Saturday 11am-7pm\, Sunday 11am-6pm\, Monday 11am-5pm
URL:https://piedmontvirginian.com/event/narmada-winery-columbus-day-weekend-saturday-october-6th-monday-october-8th/
LOCATION:Narmada Winery\, 43 Narmada Ln\, Amissville\, 20106
CATEGORIES:@ Piedmont Virginian
ATTACH;FMTTYPE=image/jpeg:https://piedmontvirginian.com/wp-content/uploads/2018/01/Sudha-345.jpg
END:VEVENT
END:VCALENDAR