BEGIN:VCALENDAR
VERSION:2.0
PRODID:-//The Piedmont Virginian - ECPv5.3.2.1//NONSGML v1.0//EN
CALSCALE:GREGORIAN
METHOD:PUBLISH
X-WR-CALNAME:The Piedmont Virginian
X-ORIGINAL-URL:https://piedmontvirginian.com
X-WR-CALDESC:Events for The Piedmont Virginian
BEGIN:VTIMEZONE
TZID:America/New_York
BEGIN:DAYLIGHT
TZOFFSETFROM:-0500
TZOFFSETTO:-0400
TZNAME:EDT
DTSTART:20180311T070000
END:DAYLIGHT
BEGIN:STANDARD
TZOFFSETFROM:-0400
TZOFFSETTO:-0500
TZNAME:EST
DTSTART:20181104T060000
END:STANDARD
END:VTIMEZONE
BEGIN:VEVENT
DTSTART;TZID=America/New_York:20181027T170000
DTEND;TZID=America/New_York:20181027T200000
DTSTAMP:20260421T074112
CREATED:20180301T164144Z
LAST-MODIFIED:20180301T164144Z
UID:24683-1540659600-1540670400@piedmontvirginian.com
SUMMARY:Narmada Winery “Diwali” Festival of Lights Celebration - Saturday October 27th
DESCRIPTION:After the harvest in ancient India\, the Festival of Lights\, or Diwali\, marked the end of the agrarian year. As a farmer in Virginia\, Sudha keeps the tradition alive every fall now in Amissville.\nDiwali has come to symbolize our own “inner light\,” the idea that we can all radiate peace and joy and have a positive impact on the events swirling around us.\nIndian Dinner Platters available 5-7pm. Vegetarian and Nonvegetarian options available. Antipasto and cheese platters also available at $18. All food MUST be preordered. To order tickets\, contact amy@narmadawinery.com. Price variable depending on food selection.\nWe’ll be open until 8pm. 5-8pm only bottle or glass sales only. Wine club members will have reserved seating on the deck.\nBonfire and fireworks begin at dusk.
URL:https://piedmontvirginian.com/event/narmada-winery-diwali-festival-of-lights-celebration-saturday-october-27th/
LOCATION:Narmada Winery\, 43 Narmada Ln\, Amissville\, 20106
CATEGORIES:@ Piedmont Virginian
ATTACH;FMTTYPE=image/jpeg:https://piedmontvirginian.com/wp-content/uploads/2018/01/Narmada-diwali-red-fireworks.jpg
END:VEVENT
END:VCALENDAR