BEGIN:VCALENDAR
VERSION:2.0
PRODID:-//The Piedmont Virginian - ECPv5.3.2.1//NONSGML v1.0//EN
CALSCALE:GREGORIAN
METHOD:PUBLISH
X-WR-CALNAME:The Piedmont Virginian
X-ORIGINAL-URL:https://piedmontvirginian.com
X-WR-CALDESC:Events for The Piedmont Virginian
BEGIN:VTIMEZONE
TZID:America/New_York
BEGIN:DAYLIGHT
TZOFFSETFROM:-0500
TZOFFSETTO:-0400
TZNAME:EDT
DTSTART:20180311T070000
END:DAYLIGHT
BEGIN:STANDARD
TZOFFSETFROM:-0400
TZOFFSETTO:-0500
TZNAME:EST
DTSTART:20181104T060000
END:STANDARD
END:VTIMEZONE
BEGIN:VEVENT
DTSTART;TZID=America/New_York:20180616T110000
DTEND;TZID=America/New_York:20180616T190000
DTSTAMP:20260421T160323
CREATED:20180301T164302Z
LAST-MODIFIED:20180301T164302Z
UID:24677-1529146800-1529175600@piedmontvirginian.com
SUMMARY:Narmada Winery Fathers Day Weekend - Saturday June 16th and Sunday June 17th
DESCRIPTION:Celebrating Fathers Everywhere! \nLive music on Saturday and on Sunday. Complimentary wine tasting for Dads all weekend! Enjoy your favorite Narmada wines while fishing with Dad at our stocked Lake by the Pavilion. \nHours: Saturday 11am-7pm\, Sunday 11am-6pm
URL:https://piedmontvirginian.com/event/narmada-winery-fathers-day-weekend-saturday-june-16th-and-sunday-june-17th/
LOCATION:Narmada Winery\, 43 Narmada Ln\, Amissville\, 20106
CATEGORIES:@ Piedmont Virginian
ATTACH;FMTTYPE=image/jpeg:https://piedmontvirginian.com/wp-content/uploads/2018/01/Narmada-Fishing.jpg
END:VEVENT
END:VCALENDAR