BEGIN:VCALENDAR
VERSION:2.0
PRODID:-//The Piedmont Virginian - ECPv5.3.2.1//NONSGML v1.0//EN
CALSCALE:GREGORIAN
METHOD:PUBLISH
X-WR-CALNAME:The Piedmont Virginian
X-ORIGINAL-URL:https://piedmontvirginian.com
X-WR-CALDESC:Events for The Piedmont Virginian
BEGIN:VTIMEZONE
TZID:America/New_York
BEGIN:DAYLIGHT
TZOFFSETFROM:-0500
TZOFFSETTO:-0400
TZNAME:EDT
DTSTART:20180311T070000
END:DAYLIGHT
BEGIN:STANDARD
TZOFFSETFROM:-0400
TZOFFSETTO:-0500
TZNAME:EST
DTSTART:20181104T060000
END:STANDARD
END:VTIMEZONE
BEGIN:VEVENT
DTSTART;VALUE=DATE:20181001
DTEND;VALUE=DATE:20181030
DTSTAMP:20260421T085904
CREATED:20180927T231319Z
LAST-MODIFIED:20180927T231319Z
UID:26153-1538352000-1540857599@piedmontvirginian.com
SUMMARY:Narmada's Library Wine Tasting
DESCRIPTION:A special standing tasting of 3 library vintages right at our bar! \nVirginia Wine Month we are bringing out Library vintages of some of our most popular wines!\nTrack our development over these last few years and pick your favorite vintage!\nLibrary wines on sale at special discounts to participants.
URL:https://piedmontvirginian.com/event/narmadas-library-wine-tasting/
LOCATION:Narmada Winery\, 43 Narmada Ln\, Amissville\, 20106
CATEGORIES:@ Piedmont Virginian
ATTACH;FMTTYPE=image/jpeg:https://piedmontvirginian.com/wp-content/uploads/2018/09/Narmada-big-reds-6x4.jpg
END:VEVENT
END:VCALENDAR