BEGIN:VCALENDAR
VERSION:2.0
PRODID:-//The Piedmont Virginian - ECPv5.3.2.1//NONSGML v1.0//EN
CALSCALE:GREGORIAN
METHOD:PUBLISH
X-WR-CALNAME:The Piedmont Virginian
X-ORIGINAL-URL:https://piedmontvirginian.com
X-WR-CALDESC:Events for The Piedmont Virginian
BEGIN:VTIMEZONE
TZID:America/New_York
BEGIN:DAYLIGHT
TZOFFSETFROM:-0500
TZOFFSETTO:-0400
TZNAME:EDT
DTSTART:20170312T070000
END:DAYLIGHT
BEGIN:STANDARD
TZOFFSETFROM:-0400
TZOFFSETTO:-0500
TZNAME:EST
DTSTART:20171105T060000
END:STANDARD
END:VTIMEZONE
BEGIN:VEVENT
DTSTART;TZID=America/New_York:20170819T110000
DTEND;TZID=America/New_York:20170819T160000
DTSTAMP:20260421T044705
CREATED:20170718T204843Z
LAST-MODIFIED:20170718T204843Z
UID:22038-1503140400-1503158400@piedmontvirginian.com
SUMMARY:National Honeybee Day
DESCRIPTION:The bees are buzzing at Sky Meadows State Park. Meet our beekeepers Doug & Ramona Morris and the Beekeepers of Northern Shenandoah as they perform a honey extraction. Learn about beekeeping\, honeybees and the Art of Apiculture. Support beekeeping and the Beekeepers of Northern Shenandoah by purchasing local honey from club members.
URL:https://piedmontvirginian.com/event/national-honeybee-day/
LOCATION:Sky Meadows State Park\, 11012 Edmonds Lane\, Delaplane\, VA\, 20144\, United States
CATEGORIES:@ Piedmont Virginian,Conservation,Farm and Garden,Outdoor Events
ATTACH;FMTTYPE=image/jpeg:https://piedmontvirginian.com/wp-content/uploads/2017/07/17050376708_b562984ed8_z.jpg
END:VEVENT
END:VCALENDAR