BEGIN:VCALENDAR
VERSION:2.0
PRODID:-//The Piedmont Virginian - ECPv5.3.2.1//NONSGML v1.0//EN
CALSCALE:GREGORIAN
METHOD:PUBLISH
X-WR-CALNAME:The Piedmont Virginian
X-ORIGINAL-URL:https://piedmontvirginian.com
X-WR-CALDESC:Events for The Piedmont Virginian
BEGIN:VTIMEZONE
TZID:America/New_York
BEGIN:DAYLIGHT
TZOFFSETFROM:-0500
TZOFFSETTO:-0400
TZNAME:EDT
DTSTART:20180311T070000
END:DAYLIGHT
BEGIN:STANDARD
TZOFFSETFROM:-0400
TZOFFSETTO:-0500
TZNAME:EST
DTSTART:20181104T060000
END:STANDARD
END:VTIMEZONE
BEGIN:VEVENT
DTSTART;TZID=America/New_York:20181102T180000
DTEND;TZID=America/New_York:20181102T193000
DTSTAMP:20260421T073553
CREATED:20181015T185643Z
LAST-MODIFIED:20181015T185643Z
UID:26401-1541181600-1541187000@piedmontvirginian.com
SUMMARY:Night Tour at the Library
DESCRIPTION:Do you enjoy vintage photographs\, private diaries\, and dusty tomes? The NSLM’s Library secrets will be revealed in this special program taking place in the Library’s Lower Level. The Lower Level houses some of NSLM’s rarest items\, held in the F. Ambrose Clark Rare Book Room and Archives Room. From 20th century memoirs to 18th century manuscripts\, get an exclusive view of letters and papers from some of the most notable equestrians of yesteryear with John Connolly\, the NSLM’s George L. Ohrstrom\, Jr. Head Librarian. What will you uncover? $10 admission\, free to NSLM members. Limit 30 tickets available\, prior registration required. \n$10 admission\, free to NSLM members. RSVP to Anne Marie Paquette\, the Clarice & Robert H. Smith Educator\, 540 687 6542 x25\, APaquette@NationalSporting.org
URL:https://piedmontvirginian.com/event/night-tour-at-the-library/
LOCATION:National Sporting Library & Museum\, 102 The Plains Road\, Middleburg\, VA\, 20117\, United States
CATEGORIES:@ Piedmont Virginian
END:VEVENT
END:VCALENDAR