BEGIN:VCALENDAR
VERSION:2.0
PRODID:-//The Piedmont Virginian - ECPv5.3.2.1//NONSGML v1.0//EN
CALSCALE:GREGORIAN
METHOD:PUBLISH
X-WR-CALNAME:The Piedmont Virginian
X-ORIGINAL-URL:https://piedmontvirginian.com
X-WR-CALDESC:Events for The Piedmont Virginian
BEGIN:VTIMEZONE
TZID:America/New_York
BEGIN:DAYLIGHT
TZOFFSETFROM:-0500
TZOFFSETTO:-0400
TZNAME:EDT
DTSTART:20180311T070000
END:DAYLIGHT
BEGIN:STANDARD
TZOFFSETFROM:-0400
TZOFFSETTO:-0500
TZNAME:EST
DTSTART:20181104T060000
END:STANDARD
END:VTIMEZONE
BEGIN:VEVENT
DTSTART;TZID=America/New_York:20180727T180000
DTEND;TZID=America/New_York:20180727T200000
DTSTAMP:20260421T122359
CREATED:20180416T161502Z
LAST-MODIFIED:20180416T161502Z
UID:25351-1532714400-1532721600@piedmontvirginian.com
SUMMARY:Open Late Concert Series
DESCRIPTION:Bring your lawn chairs or a blanket and join us the last Friday of the month\, May – August from 6:00-8:00pm on the NSLM lawn for live music. Concessions and cash bar available. Also enjoy free admission to our museum! The July 27th concert will feature the Bryan Shepherd Band\, playing original material and classic country hits\, and is in partnership with the Mosby Heritage Area Association\, Loudoun County Equine Alliance\, and Virginia Tech Alumni Association. No rain date. No outside alcohol.
URL:https://piedmontvirginian.com/event/open-late-concert-series-2/
LOCATION:National Sporting Library & Museum\, 102 The Plains Road\, Middleburg\, VA\, 20117\, United States
CATEGORIES:@ Piedmont Virginian
ATTACH;FMTTYPE=image/jpeg:https://piedmontvirginian.com/wp-content/uploads/2018/04/Small_Open-Late-2.jpg
END:VEVENT
END:VCALENDAR