BEGIN:VCALENDAR
VERSION:2.0
PRODID:-//The Piedmont Virginian - ECPv5.3.2.1//NONSGML v1.0//EN
CALSCALE:GREGORIAN
METHOD:PUBLISH
X-WR-CALNAME:The Piedmont Virginian
X-ORIGINAL-URL:https://piedmontvirginian.com
X-WR-CALDESC:Events for The Piedmont Virginian
BEGIN:VTIMEZONE
TZID:America/New_York
BEGIN:DAYLIGHT
TZOFFSETFROM:-0500
TZOFFSETTO:-0400
TZNAME:EDT
DTSTART:20180311T070000
END:DAYLIGHT
BEGIN:STANDARD
TZOFFSETFROM:-0400
TZOFFSETTO:-0500
TZNAME:EST
DTSTART:20181104T060000
END:STANDARD
END:VTIMEZONE
BEGIN:VEVENT
DTSTART;TZID=America/New_York:20180525T180000
DTEND;TZID=America/New_York:20180525T200000
DTSTAMP:20260421T154341
CREATED:20180416T161559Z
LAST-MODIFIED:20180416T161559Z
UID:25345-1527271200-1527278400@piedmontvirginian.com
SUMMARY:Open Late Concert Series
DESCRIPTION:Bring your lawn chairs or a blanket and join us the last Friday of the month\, May – August from 6:00-8:00pm on the NSLM lawn for live music. Concessions and cash bar available. Also enjoy free admission to our museum! The May 25 concert will feature The Butchers Family Band\, playing traditional country and bluegrass\, and is in partnership with the Highland School and the Middleburg Human Foundation. No rain date. No outside alcohol.
URL:https://piedmontvirginian.com/event/open-late-concert-series-4/
LOCATION:National Sporting Library & Museum\, 102 The Plains Road\, Middleburg\, VA\, 20117\, United States
CATEGORIES:@ Piedmont Virginian
ATTACH;FMTTYPE=image/jpeg:https://piedmontvirginian.com/wp-content/uploads/2018/04/Small_Open-Late.jpg
END:VEVENT
END:VCALENDAR