BEGIN:VCALENDAR
VERSION:2.0
PRODID:-//The Piedmont Virginian - ECPv5.3.2.1//NONSGML v1.0//EN
CALSCALE:GREGORIAN
METHOD:PUBLISH
X-WR-CALNAME:The Piedmont Virginian
X-ORIGINAL-URL:https://piedmontvirginian.com
X-WR-CALDESC:Events for The Piedmont Virginian
BEGIN:VTIMEZONE
TZID:America/New_York
BEGIN:DAYLIGHT
TZOFFSETFROM:-0500
TZOFFSETTO:-0400
TZNAME:EDT
DTSTART:20180311T070000
END:DAYLIGHT
BEGIN:STANDARD
TZOFFSETFROM:-0400
TZOFFSETTO:-0500
TZNAME:EST
DTSTART:20181104T060000
END:STANDARD
END:VTIMEZONE
BEGIN:VEVENT
DTSTART;TZID=America/New_York:20180803T170000
DTEND;TZID=America/New_York:20180803T210000
DTSTAMP:20260421T135555
CREATED:20180801T183149Z
LAST-MODIFIED:20180801T183149Z
UID:25879-1533315600-1533330000@piedmontvirginian.com
SUMMARY:Opening Reception for “Locally Inspired” at Art in the Valley
DESCRIPTION:Join us for our August 3rd Opening Reception from 5:00 to 9:00 p.m. Our show “Locally Inspired” features new works by Blue Ridge area artists. Learn more about each piece and the inspiration behind it. \nNew works by Michael & Tiffany Budzisz\, Tony DeMasi\, Jordan Long\, Elena Maza\, Sarah Hart Morgan and Danny Mulvena will be on display\, plus new jewelry by Paul Reavis and Annie Waters. \nEvent is free and open to the public. Light hors d’oeuvres will be served. Hope to see you there!
URL:https://piedmontvirginian.com/event/opening-reception-for-locally-inspired-at-art-in-the-valley/
LOCATION:Art in the Valley\, 205-A East Main St.\, Front Royal\, VA\, 22630\, United States
CATEGORIES:@ Piedmont Virginian
ATTACH;FMTTYPE=image/jpeg:https://piedmontvirginian.com/wp-content/uploads/2018/07/Locally-Inspired-square-image-only.jpg
END:VEVENT
END:VCALENDAR