BEGIN:VCALENDAR
VERSION:2.0
PRODID:-//The Piedmont Virginian - ECPv5.3.2.1//NONSGML v1.0//EN
CALSCALE:GREGORIAN
METHOD:PUBLISH
X-WR-CALNAME:The Piedmont Virginian
X-ORIGINAL-URL:https://piedmontvirginian.com
X-WR-CALDESC:Events for The Piedmont Virginian
BEGIN:VTIMEZONE
TZID:America/New_York
BEGIN:DAYLIGHT
TZOFFSETFROM:-0500
TZOFFSETTO:-0400
TZNAME:EDT
DTSTART:20180311T070000
END:DAYLIGHT
BEGIN:STANDARD
TZOFFSETFROM:-0400
TZOFFSETTO:-0500
TZNAME:EST
DTSTART:20181104T060000
END:STANDARD
END:VTIMEZONE
BEGIN:VEVENT
DTSTART;TZID=America/New_York:20180616T180000
DTEND;TZID=America/New_York:20180616T200000
DTSTAMP:20260421T135857
CREATED:20180525T132033Z
LAST-MODIFIED:20180525T132033Z
UID:25614-1529172000-1529179200@piedmontvirginian.com
SUMMARY:Opening Reception: Visual Expressions\, A Timeless Perspective
DESCRIPTION:Visual Expressions\nA Timeless Perspective\nOn exhibit: June 13 – July 13 \nVisual Expressions is an “over 55” community art group that originated in Prince William County\, Virginia. It was established in 2014 to promote creative endeavors to stimulate the mind\, reduce the effects of stress-related diseases\, and slow cognitive decline. The art group consists of graphic artists\, art educators\, and self-taught hobbyists. Soothing landscapes\, realistic animal portraits\, and vibrant abstract compositions make up their eclectic oeuvre and reflect a lifetime of learning\, traveling\, and exploring new techniques and mediums. Meet the artists at the opening reception\, June 16\, 6-8 pm. \nGreater Manassas/Prince William County sponsors theatrical productions for children and adults\, teaches arts classes\, promotes visual arts and provides community outreach programs for local youth. Founded in 1984 by a group of artists and art lovers\, the Center aims to enrich the quality of life in the Northern Virginia suburbs through arts performance and education. A theater\, an art gallery and classrooms are located in the historic Candy Factory building in Old Town Manassas\, at 9419 Battle Street.
URL:https://piedmontvirginian.com/event/opening-reception-visual-expressions-a-timeless-perspective/
LOCATION:Center for the Arts\, 9419 Battle Street\, Manassas\, 20110
CATEGORIES:@ Piedmont Virginian
ATTACH;FMTTYPE=image/jpeg:https://piedmontvirginian.com/wp-content/uploads/2018/05/LewinSandra_Beacon-In-The-Night.jpg
END:VEVENT
END:VCALENDAR