BEGIN:VCALENDAR
VERSION:2.0
PRODID:-//The Piedmont Virginian - ECPv5.3.2.1//NONSGML v1.0//EN
CALSCALE:GREGORIAN
METHOD:PUBLISH
X-WR-CALNAME:The Piedmont Virginian
X-ORIGINAL-URL:https://piedmontvirginian.com
X-WR-CALDESC:Events for The Piedmont Virginian
BEGIN:VTIMEZONE
TZID:America/New_York
BEGIN:DAYLIGHT
TZOFFSETFROM:-0500
TZOFFSETTO:-0400
TZNAME:EDT
DTSTART:20180311T070000
END:DAYLIGHT
BEGIN:STANDARD
TZOFFSETFROM:-0400
TZOFFSETTO:-0500
TZNAME:EST
DTSTART:20181104T060000
END:STANDARD
END:VTIMEZONE
BEGIN:VEVENT
DTSTART;TZID=America/New_York:20180908T120000
DTEND;TZID=America/New_York:20180908T180000
DTSTAMP:20260421T103047
CREATED:20180416T161844Z
LAST-MODIFIED:20180416T161844Z
UID:25169-1536408000-1536429600@piedmontvirginian.com
SUMMARY:Oyster Bar
DESCRIPTION:Kick off oyster season and join us for the first-ever oyster bar at Veramar\, hosted al fresco in the Gazebo overlooking the magnificent Blue Ridge Mountains and acres of vineyards! \nChef Cheryl Ashe\, the “culinary gangster” extraordinaire of Sweet NOLA’s Southern Food Lounge\, will be preparing locally-sourced oysters that you’ll love!\nEach ticket includes a half-dozen oysters\, and we’ll have the perfect wines for pairing with these delicious east-coast delicacies available for purchase at the oyster bar. \nPlus\, we’ll have live music to get you in that seaside spirit as you sip and savor the bounty of the sea! \nIn fact\, oysters are one of the Fabulous Flavors of Virginia\, one of those local delicacies that makes our beautiful state such a wonderful place to explore! Just like wine\, oysters come in all different flavors and sensations depending on the region\, so there’s always more to explore. Click here to learn more about what makes oysters so awesome! \nReservations are required by September 3\, and you must be 21 years old or older to participate. Each time slot lasts for one half hour. This event will go on rain or shine. We are unable to refund tickets for this event
URL:https://piedmontvirginian.com/event/oyster-bar/
LOCATION:Veramar Vineyard\, 905 Quarry Rd\, Berryville\, 22611
CATEGORIES:@ Piedmont Virginian
ATTACH;FMTTYPE=image/jpeg:https://piedmontvirginian.com/wp-content/uploads/2018/04/oysters.jpg
END:VEVENT
END:VCALENDAR