BEGIN:VCALENDAR
VERSION:2.0
PRODID:-//The Piedmont Virginian - ECPv5.3.2.1//NONSGML v1.0//EN
CALSCALE:GREGORIAN
METHOD:PUBLISH
X-WR-CALNAME:The Piedmont Virginian
X-ORIGINAL-URL:https://piedmontvirginian.com
X-WR-CALDESC:Events for The Piedmont Virginian
BEGIN:VTIMEZONE
TZID:America/New_York
BEGIN:DAYLIGHT
TZOFFSETFROM:-0500
TZOFFSETTO:-0400
TZNAME:EDT
DTSTART:20180311T070000
END:DAYLIGHT
BEGIN:STANDARD
TZOFFSETFROM:-0400
TZOFFSETTO:-0500
TZNAME:EST
DTSTART:20181104T060000
END:STANDARD
END:VTIMEZONE
BEGIN:VEVENT
DTSTART;TZID=America/New_York:20181027T140000
DTEND;TZID=America/New_York:20181027T153000
DTSTAMP:20260421T081336
CREATED:20181010T203644Z
LAST-MODIFIED:20181010T203644Z
UID:26224-1540648800-1540654200@piedmontvirginian.com
SUMMARY:Pied Piper Theatre's Enchanted Sleeping Beauty
DESCRIPTION:Come join Pied Piper Theatre Halloween weekend for a mystical trip to the land of Never Nod! The curse of a witch and the prick of a finger on a spinning wheel lead Princess Briar-Rose (aka Sleeping Beauty) to an enchanted sleep. The only way to break the curse is to be woken by true love. Will her prince save her and the kingdom in time? \nPerformances are Halloween weekend\, October 27 at 2 pm and 7pm and October 28 at 3pm. Tickets will be for sale at the door the day of performances! Buy tickets now to take advantage of Early Bird prices: center-for-the-arts.org/tickets. Group rates are also available to groups of 8 or more. Call the Center for the Arts at 703-330-2787 for details. \nBook by Vera Morris\, music and lyrics by Bill Francoeur. “Enchanted Sleeping Beauty” is presented through special arrangement with Pioneer Drama Service\, Inc.\, Englewood\, CO.
URL:https://piedmontvirginian.com/event/pied-piper-theatres-enchanted-sleeping-beauty/
LOCATION:Grace E. Metz Middle School\, 9950 Wellington Rd.\, Manassas\, VA\, 20110\, United States
CATEGORIES:@ Piedmont Virginian
ATTACH;FMTTYPE=image/jpeg:https://piedmontvirginian.com/wp-content/uploads/2018/10/PrincePrincess_Press2_Large.jpg
END:VEVENT
END:VCALENDAR