BEGIN:VCALENDAR
VERSION:2.0
PRODID:-//The Piedmont Virginian - ECPv5.3.2.1//NONSGML v1.0//EN
CALSCALE:GREGORIAN
METHOD:PUBLISH
X-WR-CALNAME:The Piedmont Virginian
X-ORIGINAL-URL:https://piedmontvirginian.com
X-WR-CALDESC:Events for The Piedmont Virginian
BEGIN:VTIMEZONE
TZID:America/New_York
BEGIN:DAYLIGHT
TZOFFSETFROM:-0500
TZOFFSETTO:-0400
TZNAME:EDT
DTSTART:20160313T070000
END:DAYLIGHT
BEGIN:STANDARD
TZOFFSETFROM:-0400
TZOFFSETTO:-0500
TZNAME:EST
DTSTART:20161106T060000
END:STANDARD
END:VTIMEZONE
BEGIN:VEVENT
DTSTART;TZID=America/New_York:20161007T123000
DTEND;TZID=America/New_York:20161007T130000
DTSTAMP:20260419T143337
CREATED:20160623T142044Z
LAST-MODIFIED:20160623T142044Z
UID:12976-1475843400-1475845200@piedmontvirginian.com
SUMMARY:Potomac Flight Honoring Disabled American Veterans
DESCRIPTION:On October 7\, World War II era aircraft\, including T-6 “Texans”\, will launch from Culpeper Regional Airport and soar in formation down the Potomac River. The Potomac Flight over the Pentagon and Arlington National Cemetery is in honor of DAV (Disabled American Veterans) and pays tribute to the services and sacrifices veterans have made to secure our nation’s freedom. This ceremonial formation flight will be visible from Alexandria\, Arlington and Rosslyn\, VA. Culpeper Air Fest will serve as a home base for the ground-breaking flight.
URL:https://piedmontvirginian.com/event/potomac-flight-honoring-disabled-american-veterans/
LOCATION:Over the skies of D.C. and Virginia\, 12517 Beverly Ford Rd\, Culpeper\, 22714
CATEGORIES:@ Piedmont Virginian,History and Heritage,Outdoor Events
ATTACH;FMTTYPE=image/png:https://piedmontvirginian.com/wp-content/uploads/2016/06/unnamed.png
END:VEVENT
END:VCALENDAR