BEGIN:VCALENDAR
VERSION:2.0
PRODID:-//The Piedmont Virginian - ECPv5.3.2.1//NONSGML v1.0//EN
CALSCALE:GREGORIAN
METHOD:PUBLISH
X-WR-CALNAME:The Piedmont Virginian
X-ORIGINAL-URL:https://piedmontvirginian.com
X-WR-CALDESC:Events for The Piedmont Virginian
BEGIN:VTIMEZONE
TZID:America/New_York
BEGIN:DAYLIGHT
TZOFFSETFROM:-0500
TZOFFSETTO:-0400
TZNAME:EDT
DTSTART:20180311T070000
END:DAYLIGHT
BEGIN:STANDARD
TZOFFSETFROM:-0400
TZOFFSETTO:-0500
TZNAME:EST
DTSTART:20181104T060000
END:STANDARD
END:VTIMEZONE
BEGIN:VEVENT
DTSTART;TZID=America/New_York:20180704T120000
DTEND;TZID=America/New_York:20180704T160000
DTSTAMP:20260421T135848
CREATED:20180502T172853Z
LAST-MODIFIED:20180502T172853Z
UID:25475-1530705600-1530720000@piedmontvirginian.com
SUMMARY:Reds\, Whites\, and Bluegrass
DESCRIPTION:Celebrate the 4th of July at Keswick Vineyards with some great Red & White Virginia wines and Bluegrass music performed by local band East of Afton! Come hungry because we will have some great food choices available for you to purchase. The SpiceSea Gourmet will be here serving up their delicious seafood selections\, Bo Hatchet will be dishing up their slow roasted meats\, savory sauces and awesome sides dishes\, and Eat 2 the Beat will be serving items from their fresh\, rotating menu such as burgers\, sliders\, salads\, pastas\, and stews. \nNo entry fee\, just grab your picnic blankets\, chairs\, and friends and come have a great time! All ages welcome. Pet-friendly; pets must be on a leash unless they are playing in our fenced-in dog park. Rain or shine!
URL:https://piedmontvirginian.com/event/reds-whites-and-bluegrass/
LOCATION:Keswick Vineyards\, VA\, United States
CATEGORIES:@ Piedmont Virginian
ATTACH;FMTTYPE=image/jpeg:https://piedmontvirginian.com/wp-content/uploads/2018/04/DSC_7945.jpg
END:VEVENT
END:VCALENDAR