BEGIN:VCALENDAR
VERSION:2.0
PRODID:-//The Piedmont Virginian - ECPv5.3.2.1//NONSGML v1.0//EN
CALSCALE:GREGORIAN
METHOD:PUBLISH
X-WR-CALNAME:The Piedmont Virginian
X-ORIGINAL-URL:https://piedmontvirginian.com
X-WR-CALDESC:Events for The Piedmont Virginian
BEGIN:VTIMEZONE
TZID:America/New_York
BEGIN:DAYLIGHT
TZOFFSETFROM:-0500
TZOFFSETTO:-0400
TZNAME:EDT
DTSTART:20170312T070000
END:DAYLIGHT
BEGIN:STANDARD
TZOFFSETFROM:-0400
TZOFFSETTO:-0500
TZNAME:EST
DTSTART:20171105T060000
END:STANDARD
END:VTIMEZONE
BEGIN:VEVENT
DTSTART;TZID=America/New_York:20170507T100000
DTEND;TZID=America/New_York:20170507T113000
DTSTAMP:20260419T183829
CREATED:20170504T171245Z
LAST-MODIFIED:20170504T171245Z
UID:20742-1494151200-1494156600@piedmontvirginian.com
SUMMARY:Reformation Lutheran Church will hold one special Worship Service of Dedication
DESCRIPTION:Begins at 10 a.m. with representatives from the Bishop of the North American Lutheran Church.  Reception will follow. New location at 601 Madison Road in Culpeper. Contact the church at 825-1376.
URL:https://piedmontvirginian.com/event/reformation-lutheran-church-will-hold-one-special-worship-service-of-dedication/
LOCATION:Reformation Lutheran Church\, 601 Madison Road\, Culpeper\, VA\, 22701\, United States
CATEGORIES:@ Culpeper Times
END:VEVENT
END:VCALENDAR