BEGIN:VCALENDAR
VERSION:2.0
PRODID:-//The Piedmont Virginian - ECPv5.3.2.1//NONSGML v1.0//EN
CALSCALE:GREGORIAN
METHOD:PUBLISH
X-WR-CALNAME:The Piedmont Virginian
X-ORIGINAL-URL:https://piedmontvirginian.com
X-WR-CALDESC:Events for The Piedmont Virginian
BEGIN:VTIMEZONE
TZID:America/New_York
BEGIN:DAYLIGHT
TZOFFSETFROM:-0500
TZOFFSETTO:-0400
TZNAME:EDT
DTSTART:20170312T070000
END:DAYLIGHT
BEGIN:STANDARD
TZOFFSETFROM:-0400
TZOFFSETTO:-0500
TZNAME:EST
DTSTART:20171105T060000
END:STANDARD
END:VTIMEZONE
BEGIN:VEVENT
DTSTART;TZID=America/New_York:20170506T170000
DTEND;TZID=America/New_York:20170506T190000
DTSTAMP:20260419T140943
CREATED:20170504T170918Z
LAST-MODIFIED:20170504T170918Z
UID:20736-1494090000-1494097200@piedmontvirginian.com
SUMMARY:Relay For Life Dinner Fundraiser
DESCRIPTION:Richardsville Fire Department hosts ham and turkey dinner from 5-7 p.m. to benefit the H&R Hearts Relay for Life Team. Menu includes all the sides\, desserts and drinks. Bring friends and family. $10/adults\, $6/Children 8 and under. Located at 29361 Eleys Ford Road in Richardsville. Contact Rita Martin at 540-399-1326.
URL:https://piedmontvirginian.com/event/relay-for-life-dinner-fundraiser/
CATEGORIES:@ Culpeper Times
END:VEVENT
END:VCALENDAR