BEGIN:VCALENDAR
VERSION:2.0
PRODID:-//The Piedmont Virginian - ECPv5.3.2.1//NONSGML v1.0//EN
CALSCALE:GREGORIAN
METHOD:PUBLISH
X-WR-CALNAME:The Piedmont Virginian
X-ORIGINAL-URL:https://piedmontvirginian.com
X-WR-CALDESC:Events for The Piedmont Virginian
BEGIN:VTIMEZONE
TZID:America/New_York
BEGIN:DAYLIGHT
TZOFFSETFROM:-0500
TZOFFSETTO:-0400
TZNAME:EDT
DTSTART:20180311T070000
END:DAYLIGHT
BEGIN:STANDARD
TZOFFSETFROM:-0400
TZOFFSETTO:-0500
TZNAME:EST
DTSTART:20181104T060000
END:STANDARD
END:VTIMEZONE
BEGIN:VEVENT
DTSTART;VALUE=DATE:20180806
DTEND;VALUE=DATE:20180813
DTSTAMP:20260421T121124
CREATED:20180716T200854Z
LAST-MODIFIED:20180716T200854Z
UID:25819-1533513600-1534118399@piedmontvirginian.com
SUMMARY:Restaurant Week
DESCRIPTION:From August 6 -12 participating restaurants and bakeries in Old Town Warrenton will offer special prix-fixe meals for lunch and dinner for $15\, $25 and $35. Come support local restaurants and enjoy delicious food and fun experiences. \nParticipating restaurants to date (more to come): \n– Denim & Pearls\n– Gateau\n– Ciao Bella Celebrations (Partnering with Haute Cakes Pastry Shop)\n– Black Bear Bistro & Brick Oven\n– Molly’s Irish Pub\n– Great Harvest Bread \nMenu details coming soon to participating restaurants’ websites and on OldTownWarrenton.org
URL:https://piedmontvirginian.com/event/restaurant-week/
LOCATION:Downtown Warrenton\, 26 Main Street \, Warrenton\, 20186
CATEGORIES:@ Piedmont Virginian
ATTACH;FMTTYPE=image/jpeg:https://piedmontvirginian.com/wp-content/uploads/2018/07/eotw.jpg
END:VEVENT
END:VCALENDAR