BEGIN:VCALENDAR
VERSION:2.0
PRODID:-//The Piedmont Virginian - ECPv5.3.2.1//NONSGML v1.0//EN
CALSCALE:GREGORIAN
METHOD:PUBLISH
X-WR-CALNAME:The Piedmont Virginian
X-ORIGINAL-URL:https://piedmontvirginian.com
X-WR-CALDESC:Events for The Piedmont Virginian
BEGIN:VTIMEZONE
TZID:America/New_York
BEGIN:DAYLIGHT
TZOFFSETFROM:-0500
TZOFFSETTO:-0400
TZNAME:EDT
DTSTART:20180311T070000
END:DAYLIGHT
BEGIN:STANDARD
TZOFFSETFROM:-0400
TZOFFSETTO:-0500
TZNAME:EST
DTSTART:20181104T060000
END:STANDARD
END:VTIMEZONE
BEGIN:VEVENT
DTSTART;TZID=America/New_York:20181020T120000
DTEND;TZID=America/New_York:20181020T180000
DTSTAMP:20260421T103531
CREATED:20180416T161816Z
LAST-MODIFIED:20180416T161816Z
UID:25171-1540036800-1540058400@piedmontvirginian.com
SUMMARY:Rock the Grapes! Festival
DESCRIPTION:Celebrate Virginia Wine Month at our annual festival\, Rock the Grapes! \nIn addition to our selection of Veramar Vineyard wines\, James Charles Winery and Bogati Winery will be there pouring with their award- winning wines as well! \nFeaturing awesome live music from The Cruisers and amazing local food\, this festival is fun for everyone. \nYour ticket includes admission\, a souvenir wine glass\, and a tasting voucher redeemable at any one of the wineries represented at the festival. Plus\, wine-a-ritas are only $5 all day long! \nYou’ll even have the opportunity to stomp grapes\, just like in I Love Lucy! We strongly encourage if you wish to stomp the grapes to sign up in advance as souvenir foot stopping T-shirts and grapes are limited. \nDue to the popularity of this events\, lawn chairs are recommended. \nTickets are $15 in advance ($12.75 for Estate Club members) and $20 at the gate for everyone. \nPets are not allowed at the festival. This event will go on\, rain or shine\, and tickets are not refundable for weather-related reasons.\nIf you are a wine club member and would like to reserve a table\, you can email us at info@veramar.com to make arrangements?
URL:https://piedmontvirginian.com/event/rock-the-grapes-festival-2/
LOCATION:Veramar Vineyard\, 905 Quarry Rd\, Berryville\, 22611
CATEGORIES:@ Piedmont Virginian
ATTACH;FMTTYPE=image/jpeg:https://piedmontvirginian.com/wp-content/uploads/2018/04/Rock-the-Grapes.jpg
END:VEVENT
END:VCALENDAR